BEGIN:VCALENDAR
VERSION:2.0
PRODID:-//Sioux Falls Young Professionals Network - ECPv6.15.18//NONSGML v1.0//EN
CALSCALE:GREGORIAN
METHOD:PUBLISH
X-WR-CALNAME:Sioux Falls Young Professionals Network
X-ORIGINAL-URL:https://siouxfallsypn.com
X-WR-CALDESC:Events for Sioux Falls Young Professionals Network
REFRESH-INTERVAL;VALUE=DURATION:PT1H
X-Robots-Tag:noindex
X-PUBLISHED-TTL:PT1H
BEGIN:VTIMEZONE
TZID:America/Chicago
BEGIN:DAYLIGHT
TZOFFSETFROM:-0600
TZOFFSETTO:-0500
TZNAME:CDT
DTSTART:20210314T080000
END:DAYLIGHT
BEGIN:STANDARD
TZOFFSETFROM:-0500
TZOFFSETTO:-0600
TZNAME:CST
DTSTART:20211107T070000
END:STANDARD
BEGIN:DAYLIGHT
TZOFFSETFROM:-0600
TZOFFSETTO:-0500
TZNAME:CDT
DTSTART:20220313T080000
END:DAYLIGHT
BEGIN:STANDARD
TZOFFSETFROM:-0500
TZOFFSETTO:-0600
TZNAME:CST
DTSTART:20221106T070000
END:STANDARD
BEGIN:DAYLIGHT
TZOFFSETFROM:-0600
TZOFFSETTO:-0500
TZNAME:CDT
DTSTART:20230312T080000
END:DAYLIGHT
BEGIN:STANDARD
TZOFFSETFROM:-0500
TZOFFSETTO:-0600
TZNAME:CST
DTSTART:20231105T070000
END:STANDARD
BEGIN:DAYLIGHT
TZOFFSETFROM:-0600
TZOFFSETTO:-0500
TZNAME:CDT
DTSTART:20240310T080000
END:DAYLIGHT
BEGIN:STANDARD
TZOFFSETFROM:-0500
TZOFFSETTO:-0600
TZNAME:CST
DTSTART:20241103T070000
END:STANDARD
BEGIN:DAYLIGHT
TZOFFSETFROM:-0600
TZOFFSETTO:-0500
TZNAME:CDT
DTSTART:20250309T080000
END:DAYLIGHT
BEGIN:STANDARD
TZOFFSETFROM:-0500
TZOFFSETTO:-0600
TZNAME:CST
DTSTART:20251102T070000
END:STANDARD
END:VTIMEZONE
BEGIN:VEVENT
DTSTART;TZID=America/Chicago:20240429T120000
DTEND;TZID=America/Chicago:20240429T130000
DTSTAMP:20260421T082235
CREATED:20240312T164745Z
LAST-MODIFIED:20240312T164810Z
UID:10000386-1714392000-1714395600@siouxfallsypn.com
SUMMARY:Our Sioux Falls | SD CEO East
DESCRIPTION:Discover the story of SD CEO East—delve into its history\, explore the range of services offered\, and uncover exciting opportunities arising. Join us to learn and engage! \nRegistration is required. Limited to the first 25 to register. Please add it to your calendar if you do register. \nYou will need to click “Login” on the top right to register for the event. Click “Forgot Password” to set up a password (make sure you use the email address associated with the Chamber). After that you should then be able to register.
URL:https://siouxfallsypn.com/event/our-sioux-falls-sd-ceo-east/
LOCATION:Greater Sioux Falls Chamber of Commerce\, 200 N. Phillips Ave. Suite 200\, Sioux Falls\, SD\, 57104\, United States
CATEGORIES:Civic Engagement,Our Sioux Falls
END:VEVENT
BEGIN:VEVENT
DTSTART;TZID=America/Chicago:20240130T120000
DTEND;TZID=America/Chicago:20240130T130000
DTSTAMP:20260421T082235
CREATED:20240102T211103Z
LAST-MODIFIED:20240102T211310Z
UID:10000365-1706616000-1706619600@siouxfallsypn.com
SUMMARY:Our Sioux Falls: Active Generations
DESCRIPTION:Discover the story of Active Generations—delve into its rich history\, explore the range of services offered\, and uncover exciting opportunities arising from the new East side facility. Join us to learn and engage! \nRegistration is required. Limited to the first 20 to register. Please add it to your calendar if you do register. \nAfter clicking “Register Now” below\, you will need to click “Login” on the top right to register for the event. Click “Forgot Password” to set up a password (make sure you use the email address associated with the Chamber). After that you should then be able to register.
URL:https://siouxfallsypn.com/event/our-sioux-falls-active-generations/
LOCATION:Active Generations East Side Location\, 5500 E. Active Generations Place\, Sioux Falls\, 57110\, United States
CATEGORIES:Civic Engagement,Our Sioux Falls
END:VEVENT
BEGIN:VEVENT
DTSTART;TZID=America/Chicago:20220201T120000
DTEND;TZID=America/Chicago:20220201T130000
DTSTAMP:20260421T082235
CREATED:20220108T223543Z
LAST-MODIFIED:20220110T050553Z
UID:10000228-1643716800-1643720400@siouxfallsypn.com
SUMMARY:YPN Our Sioux Falls: Empower Campus Co-Hosted by YPN & Emerging Leaders
DESCRIPTION:Join us at the Chamber of Commerce for our Our Sioux Falls event! At the YPN Our Sioux Falls events\, members can learn more about the community where they live and work. Advance registration is required. \nPresented by Rich Merkouris
URL:https://siouxfallsypn.com/event/ypn-our-sioux-falls-empower-campus-co-hosted-by-ypn-emerging-leaders/
LOCATION:Greater Sioux Falls Chamber of Commerce\, 200 N. Phillips Ave. Suite 200\, Sioux Falls\, SD\, 57104\, United States
CATEGORIES:Civic Engagement,Our Sioux Falls
END:VEVENT
END:VCALENDAR