BEGIN:VCALENDAR
VERSION:2.0
PRODID:-//Sioux Falls Young Professionals Network - ECPv6.15.18//NONSGML v1.0//EN
CALSCALE:GREGORIAN
METHOD:PUBLISH
X-ORIGINAL-URL:https://siouxfallsypn.com
X-WR-CALDESC:Events for Sioux Falls Young Professionals Network
REFRESH-INTERVAL;VALUE=DURATION:PT1H
X-Robots-Tag:noindex
X-PUBLISHED-TTL:PT1H
BEGIN:VTIMEZONE
TZID:America/Chicago
BEGIN:DAYLIGHT
TZOFFSETFROM:-0600
TZOFFSETTO:-0500
TZNAME:CDT
DTSTART:20250309T080000
END:DAYLIGHT
BEGIN:STANDARD
TZOFFSETFROM:-0500
TZOFFSETTO:-0600
TZNAME:CST
DTSTART:20251102T070000
END:STANDARD
BEGIN:DAYLIGHT
TZOFFSETFROM:-0600
TZOFFSETTO:-0500
TZNAME:CDT
DTSTART:20260308T080000
END:DAYLIGHT
BEGIN:STANDARD
TZOFFSETFROM:-0500
TZOFFSETTO:-0600
TZNAME:CST
DTSTART:20261101T070000
END:STANDARD
BEGIN:DAYLIGHT
TZOFFSETFROM:-0600
TZOFFSETTO:-0500
TZNAME:CDT
DTSTART:20270314T080000
END:DAYLIGHT
BEGIN:STANDARD
TZOFFSETFROM:-0500
TZOFFSETTO:-0600
TZNAME:CST
DTSTART:20271107T070000
END:STANDARD
END:VTIMEZONE
BEGIN:VEVENT
DTSTART;TZID=America/Chicago:20260505T073000
DTEND;TZID=America/Chicago:20260505T090000
DTSTAMP:20260421T062729
CREATED:20260211T204742Z
LAST-MODIFIED:20260211T204744Z
UID:10000601-1777966200-1777971600@siouxfallsypn.com
SUMMARY:Morning Buzz | Augustana University
DESCRIPTION:Join other YPN members for networking while getting your morning (coffee) buzz. Morning-minded young professionals are invited to come to enjoy coffee and conversation with other YPN members. This Morning Buzz is being hosted by Augustana University. \nWe are committed to providing a welcoming and accessible experience for all event attendees. If you require any accommodations\, please reach out to Jaci Pieters at jpieters@siouxfalls.com. We will make every effort to meet your needs.
URL:https://siouxfallsypn.com/event/morning-buzz-augustana-university/
LOCATION:Midco Arena\, 2510 S Grange Ave\, Sioux Falls\, South Dakota\, 57197
CATEGORIES:Morning Buzz,Networking
END:VEVENT
BEGIN:VEVENT
DTSTART;TZID=America/Chicago:20260610T073000
DTEND;TZID=America/Chicago:20260610T090000
DTSTAMP:20260421T062729
CREATED:20260312T205958Z
LAST-MODIFIED:20260312T210013Z
UID:10000621-1781076600-1781082000@siouxfallsypn.com
SUMMARY:Morning Buzz | The Agency Recruiting
DESCRIPTION:Join other YPN members for networking while getting your morning (coffee) buzz. Morning-minded young professionals are invited to come to enjoy coffee and conversation with other YPN members. This Morning Buzz is being hosted by The Agency Recruiting. \nWe are committed to providing a welcoming and accessible experience for all event attendees. If you require any accommodations\, please reach out to Jaci Pieters at jpieters@siouxfalls.com. We will make every effort to meet your needs.
URL:https://siouxfallsypn.com/event/morning-buzz-the-agency-recruiting/
LOCATION:The Agency Recruiting\, 5016 E. 57th St.\, Sioux Falls\, South Dakota\, 57110
CATEGORIES:Morning Buzz,Networking
END:VEVENT
END:VCALENDAR