BEGIN:VCALENDAR
VERSION:2.0
PRODID:-//Sioux Falls Young Professionals Network - ECPv6.15.18//NONSGML v1.0//EN
CALSCALE:GREGORIAN
METHOD:PUBLISH
X-ORIGINAL-URL:https://siouxfallsypn.com
X-WR-CALDESC:Events for Sioux Falls Young Professionals Network
REFRESH-INTERVAL;VALUE=DURATION:PT1H
X-Robots-Tag:noindex
X-PUBLISHED-TTL:PT1H
BEGIN:VTIMEZONE
TZID:America/Chicago
BEGIN:DAYLIGHT
TZOFFSETFROM:-0600
TZOFFSETTO:-0500
TZNAME:CDT
DTSTART:20250309T080000
END:DAYLIGHT
BEGIN:STANDARD
TZOFFSETFROM:-0500
TZOFFSETTO:-0600
TZNAME:CST
DTSTART:20251102T070000
END:STANDARD
BEGIN:DAYLIGHT
TZOFFSETFROM:-0600
TZOFFSETTO:-0500
TZNAME:CDT
DTSTART:20260308T080000
END:DAYLIGHT
BEGIN:STANDARD
TZOFFSETFROM:-0500
TZOFFSETTO:-0600
TZNAME:CST
DTSTART:20261101T070000
END:STANDARD
BEGIN:DAYLIGHT
TZOFFSETFROM:-0600
TZOFFSETTO:-0500
TZNAME:CDT
DTSTART:20270314T080000
END:DAYLIGHT
BEGIN:STANDARD
TZOFFSETFROM:-0500
TZOFFSETTO:-0600
TZNAME:CST
DTSTART:20271107T070000
END:STANDARD
END:VTIMEZONE
BEGIN:VEVENT
DTSTART;TZID=America/Chicago:20260505T173000
DTEND;TZID=America/Chicago:20260505T183000
DTSTAMP:20260424T043432
CREATED:20260126T193451Z
LAST-MODIFIED:20260126T193453Z
UID:10000594-1778002200-1778005800@siouxfallsypn.com
SUMMARY:YPs Read
DESCRIPTION:Join us for this quarter’s YPs Read Book Club! \nWe’re diving into Think Again by Adam Grant; a thought-provoking read that challenges us to question our assumptions\, embrace curiosity\, and rethink the way we approach work and life. \nCome ready to discuss the book\, share your insights\, and connect with fellow young professionals in a meaningful conversation. Whether the book shifted your perspective or sparked new questions\, we want to hear your take. \nWe are committed to providing a welcoming and accessible experience for all event attendees. If you require any accommodations\, please reach out to Jaci Pieters at jpieters@siouxfalls.com. We will make every effort to meet your needs.
URL:https://siouxfallsypn.com/event/yps-read-13/
LOCATION:Remedy Brewing Company\, 401 E. 8th St.\, Suite 120\, Sioux Falls\, 57103
CATEGORIES:Networking,Off the Clock
END:VEVENT
END:VCALENDAR