BEGIN:VCALENDAR
VERSION:2.0
PRODID:-//Sioux Falls Young Professionals Network - ECPv6.15.18//NONSGML v1.0//EN
CALSCALE:GREGORIAN
METHOD:PUBLISH
X-ORIGINAL-URL:https://siouxfallsypn.com
X-WR-CALDESC:Events for Sioux Falls Young Professionals Network
REFRESH-INTERVAL;VALUE=DURATION:PT1H
X-Robots-Tag:noindex
X-PUBLISHED-TTL:PT1H
BEGIN:VTIMEZONE
TZID:America/Chicago
BEGIN:DAYLIGHT
TZOFFSETFROM:-0600
TZOFFSETTO:-0500
TZNAME:CDT
DTSTART:20240310T080000
END:DAYLIGHT
BEGIN:STANDARD
TZOFFSETFROM:-0500
TZOFFSETTO:-0600
TZNAME:CST
DTSTART:20241103T070000
END:STANDARD
BEGIN:DAYLIGHT
TZOFFSETFROM:-0600
TZOFFSETTO:-0500
TZNAME:CDT
DTSTART:20250309T080000
END:DAYLIGHT
BEGIN:STANDARD
TZOFFSETFROM:-0500
TZOFFSETTO:-0600
TZNAME:CST
DTSTART:20251102T070000
END:STANDARD
BEGIN:DAYLIGHT
TZOFFSETFROM:-0600
TZOFFSETTO:-0500
TZNAME:CDT
DTSTART:20260308T080000
END:DAYLIGHT
BEGIN:STANDARD
TZOFFSETFROM:-0500
TZOFFSETTO:-0600
TZNAME:CST
DTSTART:20261101T070000
END:STANDARD
END:VTIMEZONE
BEGIN:VEVENT
DTSTART;TZID=America/Chicago:20251104T120000
DTEND;TZID=America/Chicago:20251104T130000
DTSTAMP:20260421T152725
CREATED:20250806T141853Z
LAST-MODIFIED:20250806T141855Z
UID:10000553-1762257600-1762261200@siouxfallsypn.com
SUMMARY:Focus Workshop - Home Ownership
DESCRIPTION:Mortgage Loan Officers will be speaking about general information towards home ownership\, with some common and uncommon expenses. This would include the mortgage process\, pitfalls\, green flags\, and financially preparing for homeownership. \nRegistration is required! \nThis event will be virtual. You will recieve a link for a Teams meeting the week of the event. \nAfter clicking on “Register Now\,” you will need to click “Login” on the top right to register for the event. Click “Forgot Password” to set up a password (make sure you use the email address associated with the Chamber). After that you should then be able to register. \nWe are committed to providing a welcoming and accessible experience for all event attendees. If you require any accommodations\, please reach out to Jaci Pieters at jpieters@siouxfalls.com. We will make every effort to meet your needs.
URL:https://siouxfallsypn.com/event/focus-workshop-home-ownership/
LOCATION:Virtual\, Sioux Falls
CATEGORIES:Focus Workshop,Professional Development
END:VEVENT
END:VCALENDAR