BEGIN:VCALENDAR
VERSION:2.0
PRODID:-//Sioux Falls Young Professionals Network - ECPv6.15.18//NONSGML v1.0//EN
CALSCALE:GREGORIAN
METHOD:PUBLISH
X-ORIGINAL-URL:https://siouxfallsypn.com
X-WR-CALDESC:Events for Sioux Falls Young Professionals Network
REFRESH-INTERVAL;VALUE=DURATION:PT1H
X-Robots-Tag:noindex
X-PUBLISHED-TTL:PT1H
BEGIN:VTIMEZONE
TZID:America/Chicago
BEGIN:DAYLIGHT
TZOFFSETFROM:-0600
TZOFFSETTO:-0500
TZNAME:CDT
DTSTART:20210314T080000
END:DAYLIGHT
BEGIN:STANDARD
TZOFFSETFROM:-0500
TZOFFSETTO:-0600
TZNAME:CST
DTSTART:20211107T070000
END:STANDARD
BEGIN:DAYLIGHT
TZOFFSETFROM:-0600
TZOFFSETTO:-0500
TZNAME:CDT
DTSTART:20220313T080000
END:DAYLIGHT
BEGIN:STANDARD
TZOFFSETFROM:-0500
TZOFFSETTO:-0600
TZNAME:CST
DTSTART:20221106T070000
END:STANDARD
BEGIN:DAYLIGHT
TZOFFSETFROM:-0600
TZOFFSETTO:-0500
TZNAME:CDT
DTSTART:20230312T080000
END:DAYLIGHT
BEGIN:STANDARD
TZOFFSETFROM:-0500
TZOFFSETTO:-0600
TZNAME:CST
DTSTART:20231105T070000
END:STANDARD
BEGIN:DAYLIGHT
TZOFFSETFROM:-0600
TZOFFSETTO:-0500
TZNAME:CDT
DTSTART:20240310T080000
END:DAYLIGHT
BEGIN:STANDARD
TZOFFSETFROM:-0500
TZOFFSETTO:-0600
TZNAME:CST
DTSTART:20241103T070000
END:STANDARD
BEGIN:DAYLIGHT
TZOFFSETFROM:-0600
TZOFFSETTO:-0500
TZNAME:CDT
DTSTART:20250309T080000
END:DAYLIGHT
BEGIN:STANDARD
TZOFFSETFROM:-0500
TZOFFSETTO:-0600
TZNAME:CST
DTSTART:20251102T070000
END:STANDARD
END:VTIMEZONE
BEGIN:VEVENT
DTSTART;TZID=America/Chicago:20240419T120000
DTEND;TZID=America/Chicago:20240419T130000
DTSTAMP:20260424T061505
CREATED:20240103T173847Z
LAST-MODIFIED:20240319T191054Z
UID:10000375-1713528000-1713531600@siouxfallsypn.com
SUMMARY:CANCELED | A Seat at the Table with Vance Thompson
DESCRIPTION:Join us for a seat at the table with Vance Thompson director of refractive surgery at Vance Thompson Vision\, \nA Seat at the Table is reserved for YPN Members only. You must register in advance. \nYou will need to click “Login” on the top right to register for the event. Click “Forgot Password” to set up a password (make sure you use the email address associated with the Chamber). After that you should then be able to register.
URL:https://siouxfallsypn.com/event/a-seat-at-the-table-with-vance-thompson/
LOCATION:Greater Sioux Falls Chamber of Commerce\, 200 N. Phillips Ave. Suite 200\, Sioux Falls\, SD\, 57104\, United States
CATEGORIES:A Seat At The Table,Professional Development
END:VEVENT
BEGIN:VEVENT
DTSTART;TZID=America/Chicago:20240304T120000
DTEND;TZID=America/Chicago:20240304T130000
DTSTAMP:20260424T061505
CREATED:20240102T212423Z
LAST-MODIFIED:20240102T221022Z
UID:10000370-1709553600-1709557200@siouxfallsypn.com
SUMMARY:A Seat at the Table with Mark Nelsen
DESCRIPTION:Join us for a seat at the table with Mark Nelsen\, owner & CEO of Maximum Promotions. \nA Seat at the Table is reserved for YPN Members only. You must register in advance. \nAfter clicking on “Register Now\,” you will need to click “Login” on the top right to register for the event. Click “Forgot Password” to set up a password (make sure you use the email address associated with the Chamber). After that you should then be able to register.
URL:https://siouxfallsypn.com/event/a-seat-at-the-table-with-mark-nelsen/
LOCATION:Greater Sioux Falls Chamber of Commerce\, 200 N. Phillips Ave. Suite 200\, Sioux Falls\, SD\, 57104\, United States
CATEGORIES:A Seat At The Table,Professional Development
END:VEVENT
BEGIN:VEVENT
DTSTART;TZID=America/Chicago:20240222T120000
DTEND;TZID=America/Chicago:20240222T130000
DTSTAMP:20260424T061505
CREATED:20240102T212242Z
LAST-MODIFIED:20240102T213536Z
UID:10000369-1708603200-1708606800@siouxfallsypn.com
SUMMARY:A Seat at the Table with Mayor Paul TenHaken
DESCRIPTION:Join us for a seat at the table with the Mayor of Sioux Falls\, Paul TenHaken \nA Seat at the Table is reserved for YPN Members only. You must register in advance. \nAfter clicking on “Register Now\,” you will need to click “Login” on the top right to register for the event. Click “Forgot Password” to set up a password (make sure you use the email address associated with the Chamber). After that you should then be able to register.
URL:https://siouxfallsypn.com/event/a-seat-at-the-table-with-mayor-paul-tenhaken/
LOCATION:Greater Sioux Falls Chamber of Commerce\, 200 N. Phillips Ave. Suite 200\, Sioux Falls\, SD\, 57104\, United States
CATEGORIES:A Seat At The Table,Professional Development
END:VEVENT
BEGIN:VEVENT
DTSTART;TZID=America/Chicago:20240214T120000
DTEND;TZID=America/Chicago:20240214T130000
DTSTAMP:20260424T061505
CREATED:20240102T211735Z
LAST-MODIFIED:20240102T213708Z
UID:10000367-1707912000-1707915600@siouxfallsypn.com
SUMMARY:A Seat at the Table with Jeff Scherschligt
DESCRIPTION:Join us for a seat at the table with local businessman and developer\, Jeff Scherschligt of Pendar Properties. \nA Seat at the Table is reserved for YPN Members only. You must register in advance. \nAfter clicking on “Register Now\,” you will need to click “Login” on the top right to register for the event. Click “Forgot Password” to set up a password (make sure you use the email address associated with the Chamber). After that you should then be able to register.
URL:https://siouxfallsypn.com/event/a-seat-at-the-table-with-jeff-scherschligt/
LOCATION:Greater Sioux Falls Chamber of Commerce\, 200 N. Phillips Ave. Suite 200\, Sioux Falls\, SD\, 57104\, United States
CATEGORIES:A Seat At The Table,Professional Development
END:VEVENT
BEGIN:VEVENT
DTSTART;TZID=America/Chicago:20240110T120000
DTEND;TZID=America/Chicago:20240110T130000
DTSTAMP:20260424T061505
CREATED:20240102T210223Z
LAST-MODIFIED:20240102T210223Z
UID:10000362-1704888000-1704891600@siouxfallsypn.com
SUMMARY:A Seat at the Table with Scott Lawrence
DESCRIPTION:Join us for a seat at the table with CEO/Partner of Lawrence & Schiller and the current Chamber of Commerce Board of Directors Chair\, Scott Lawrence. \nLunch will be provided. Advanced registration is required. \nYou will need to click “Login” on the top right to register for the event. Click “Forgot Password” to set up a password (make sure you use the email address associated with the Chamber). After that you should then be able to register.
URL:https://siouxfallsypn.com/event/a-seat-at-the-table-with-scott-lawrence/
LOCATION:Greater Sioux Falls Chamber of Commerce\, 200 N. Phillips Ave. Suite 200\, Sioux Falls\, SD\, 57104\, United States
CATEGORIES:A Seat At The Table,Professional Development
END:VEVENT
BEGIN:VEVENT
DTSTART;TZID=America/Chicago:20220209T160000
DTEND;TZID=America/Chicago:20220209T170000
DTSTAMP:20260424T061505
CREATED:20220108T224003Z
LAST-MODIFIED:20220110T050626Z
UID:10000230-1644422400-1644426000@siouxfallsypn.com
SUMMARY:YPN: A Seat at the Table with Riccardo Tarabelsi
DESCRIPTION:Our February Seat at the Table features Riccardo Tarabelsi. Register today to get to know Riccardo\, the Owner of R Wine Bar! \nA Seat at the Table is reserved for YPN Members only. You must register in advance. \nYou will need to click “Login” on the top right to register for the event. Click “Forgot Password” to set up a password (make sure you use the email address associated with the Chamber). After that you should then be able to register.
URL:https://siouxfallsypn.com/event/ypn-a-seat-at-the-table-with-riccardo-tarabelsi/
LOCATION:R Wine Bar\, 322 E. 8th St.\, Sioux Falls\, SD\, 57104\, United States
CATEGORIES:A Seat At The Table,Professional Development
END:VEVENT
BEGIN:VEVENT
DTSTART;TZID=America/Chicago:20220120T120000
DTEND;TZID=America/Chicago:20220120T130000
DTSTAMP:20260424T061505
CREATED:20220108T222933Z
LAST-MODIFIED:20220110T004932Z
UID:10000225-1642680000-1642683600@siouxfallsypn.com
SUMMARY:YPN: A Seat at the Table with Kerri Tietgen
DESCRIPTION:Our January Seat at the Table features Kerri Tietgen. Register today to get to know Kerri\, the Chief Executive Officer at EmBe! \nA Seat at the Table is reserved for YPN Members only. You must register in advance. \nYou will need to click “Login” on the top right to register for the event. Click “Forgot Password” to set up a password (make sure you use the email address associated with the Chamber). After that you should then be able to register.
URL:https://siouxfallsypn.com/event/ypn-a-seat-at-the-table-with-kerri-tietgen/
LOCATION:Greater Sioux Falls Chamber of Commerce\, 200 N. Phillips Ave. Suite 200\, Sioux Falls\, SD\, 57104\, United States
CATEGORIES:A Seat At The Table,Professional Development
END:VEVENT
END:VCALENDAR