BEGIN:VCALENDAR
VERSION:2.0
PRODID:-//Sioux Falls Young Professionals Network - ECPv6.15.18//NONSGML v1.0//EN
CALSCALE:GREGORIAN
METHOD:PUBLISH
X-ORIGINAL-URL:https://siouxfallsypn.com
X-WR-CALDESC:Events for Sioux Falls Young Professionals Network
REFRESH-INTERVAL;VALUE=DURATION:PT1H
X-Robots-Tag:noindex
X-PUBLISHED-TTL:PT1H
BEGIN:VTIMEZONE
TZID:America/Chicago
BEGIN:DAYLIGHT
TZOFFSETFROM:-0600
TZOFFSETTO:-0500
TZNAME:CDT
DTSTART:20230312T080000
END:DAYLIGHT
BEGIN:STANDARD
TZOFFSETFROM:-0500
TZOFFSETTO:-0600
TZNAME:CST
DTSTART:20231105T070000
END:STANDARD
BEGIN:DAYLIGHT
TZOFFSETFROM:-0600
TZOFFSETTO:-0500
TZNAME:CDT
DTSTART:20240310T080000
END:DAYLIGHT
BEGIN:STANDARD
TZOFFSETFROM:-0500
TZOFFSETTO:-0600
TZNAME:CST
DTSTART:20241103T070000
END:STANDARD
BEGIN:DAYLIGHT
TZOFFSETFROM:-0600
TZOFFSETTO:-0500
TZNAME:CDT
DTSTART:20250309T080000
END:DAYLIGHT
BEGIN:STANDARD
TZOFFSETFROM:-0500
TZOFFSETTO:-0600
TZNAME:CST
DTSTART:20251102T070000
END:STANDARD
END:VTIMEZONE
BEGIN:VEVENT
DTSTART;TZID=America/Chicago:20240603T173000
DTEND;TZID=America/Chicago:20240812T203000
DTSTAMP:20260424T031017
CREATED:20240315T140046Z
LAST-MODIFIED:20240315T140714Z
UID:10000391-1717435800-1723494600@siouxfallsypn.com
SUMMARY:2024 YPN Golf League
DESCRIPTION:Let’s play golf! The 2024 YPN Golf League is the perfect opportunity to golf while enjoying a South Dakota summer and meeting new people. This year’s league will be held on Monday nights from June 3 – August 12 (no league on July 1) with tee times between 5:30-6:40 PM. Thirty-two players will be accepted into the league and each week you will have the opportunity to golf with three different YPN members. Courses will rotate from week to week. The play will be a 4-person scramble. \nLeague Schedule: \nWeek 1: 6/3 Bakker Crossing \nWeek 2: 6/10 Elmwood (Golf Bingo) \nWeek 3: 6/17 Brandon  \nWeek 4: 6/24 Prairie Green (4th of July attire) \nSkip July 4th Week \nWeek 5: 7/8 Willow Run  \nWeek 6: 7/15 Bakker Crossing (miss matched) \nWeek 7: 7/22 Elmwood  \nWeek 8: 7/29 Brandon (Hawaiian) \nWeek 9: 8/5 Willow Run  \nWeek 10: 8/12 Prairie Green  \n*Proof of GreatLife or City membership is required based on your registration selection below. \n** You are required to fill your spot with a fellow YPN member if you are unable to participate on a league night.** \nYou will need to click “Login” on the top right to register for the event. Click “Forgot Password” to set up a password (make sure you use the email address associated with the Chamber). After that you should then be able to register. \n 
URL:https://siouxfallsypn.com/event/2024-ypn-golf-league/
CATEGORIES:YPN Golf League
END:VEVENT
BEGIN:VEVENT
DTSTART;TZID=America/Chicago:20240709T073000
DTEND;TZID=America/Chicago:20240709T090000
DTSTAMP:20260424T031017
CREATED:20240509T170429Z
LAST-MODIFIED:20240509T170429Z
UID:10000418-1720510200-1720515600@siouxfallsypn.com
SUMMARY:Morning Buzz
DESCRIPTION:Join other YPN members for networking while getting your morning (coffee) buzz. Morning-minded young professionals are invited to come to enjoy coffee and conversation with other YPN members.
URL:https://siouxfallsypn.com/event/morning-buzz-22/
LOCATION:Fernson Downtown\, 332 S. Phillips Ave.\, Sioux Falls\, 57104
CATEGORIES:Morning Buzz,Networking
END:VEVENT
BEGIN:VEVENT
DTSTART;TZID=America/Chicago:20240711T173000
DTEND;TZID=America/Chicago:20240711T210000
DTSTAMP:20260424T031017
CREATED:20240503T130043Z
LAST-MODIFIED:20240319T203325Z
UID:10000398-1720719000-1720731600@siouxfallsypn.com
SUMMARY:YPN Night at the Levitt
DESCRIPTION:Come and join us for an evening of fun and entertainment at the Levitt! Experience the vibrant energy of live music with the Gilda House\, for FREE. Enjoy refreshing drinks and engage in enriching conversations amidst the lively atmosphere. Keep an eye out for the YPN table\, where we’ll be gathering. Don’t miss out – we look forward to seeing you there!
URL:https://siouxfallsypn.com/event/ypn-night-at-the-levitt/
LOCATION:Levitt at the Falls\, 504 N Phillips Ave\, Sioux Falls\, SD\, 57104\, United States
CATEGORIES:Networking,Off the Clock
END:VEVENT
BEGIN:VEVENT
DTSTART;TZID=America/Chicago:20240716T160000
DTEND;TZID=America/Chicago:20240716T170000
DTSTAMP:20260424T031017
CREATED:20240605T135843Z
LAST-MODIFIED:20240605T135843Z
UID:10000423-1721145600-1721149200@siouxfallsypn.com
SUMMARY:YPN Community Connections Tour: Canopy by Hilton
DESCRIPTION:YPN Community Connections Tours provides the opportunity to get an inside look at a local business. On this tour\, you will view the behind the scenes of the Canopy by Hilton in downtown Sioux Falls. \nRegistration is required. Limited to the first 20 to register. Please add it to your calendar if you do register. \nPlease note\, this tour is an active construction site so you will be required to wear closed toe and closed heel shoes as well as pants. 
URL:https://siouxfallsypn.com/event/ypn-community-connections-tour-canopy-by-hilton/
LOCATION:Canopy by Hilton\, 120 E. 4th Pl.\, Sioux Falls\, SD\, 57104\, United States
CATEGORIES:Community Connections Tour,Professional Development
END:VEVENT
BEGIN:VEVENT
DTSTART;TZID=America/Chicago:20240717T160000
DTEND;TZID=America/Chicago:20240717T170000
DTSTAMP:20260424T031017
CREATED:20240410T162922Z
LAST-MODIFIED:20240626T184658Z
UID:10000405-1721232000-1721235600@siouxfallsypn.com
SUMMARY:Social Action Team Meeting
DESCRIPTION:Party planners and extroverts\, this team is for you! The Social Action Team plans all of the YPN networking and fun social events such as Off the Clock\, Morning Buzz\, Power Lunch\, and many others.
URL:https://siouxfallsypn.com/event/social-action-team-meeting-14/
LOCATION:Greater Sioux Falls Chamber of Commerce\, 200 N. Phillips Ave. Suite 200\, Sioux Falls\, SD\, 57104\, United States
END:VEVENT
BEGIN:VEVENT
DTSTART;TZID=America/Chicago:20240718T163000
DTEND;TZID=America/Chicago:20240718T183000
DTSTAMP:20260424T031017
CREATED:20240529T182617Z
LAST-MODIFIED:20240717T182502Z
UID:10000421-1721320200-1721327400@siouxfallsypn.com
SUMMARY:Off the Clock
DESCRIPTION:Join us for the July “Off the Clock.” In true YPN fashion\, you will have a chance to make new friends and business connections by networking in a relaxed setting. No registration required – just show up and encourage other young professionals or colleagues to join you. \nThis “Off the Clock” will be hosted at MarketBeat. \nDirectionsThis will take place in the MarketBeat office. \nThere is a small amount of free parking next to the building on street level. The ramp on the right side of the graphic below will also be opened up at 4:00 for this event. Parking anywhere in the ramp will be free for the duration of this event. \n 
URL:https://siouxfallsypn.com/event/off-the-clock-8/
LOCATION:MarketBeat\, 345 N. Reid Pl.\, Suite 620\, Sioux Falls\, SD\, 57103\, United States
CATEGORIES:Networking,Off the Clock
END:VEVENT
BEGIN:VEVENT
DTSTART;TZID=America/Chicago:20240724T120000
DTEND;TZID=America/Chicago:20240724T130000
DTSTAMP:20260424T031017
CREATED:20240410T163155Z
LAST-MODIFIED:20240410T163155Z
UID:10000409-1721822400-1721826000@siouxfallsypn.com
SUMMARY:Personal & Professional Development/Civic Engagement Action Team
DESCRIPTION:This action team plans tours of new projects in town\, lines up phenomenal speakers and generally guides the educational elements of YPN while also looking for ways to educate YPN members about current issues in our community and encourage civic participation among young professionals. . If you enjoy brainstorming events that help young professionals develop both personally and professionally then this is the team for you!
URL:https://siouxfallsypn.com/event/personal-professional-development-civic-engagement-action-team-5/
LOCATION:Greater Sioux Falls Chamber of Commerce\, 200 N. Phillips Ave. Suite 200\, Sioux Falls\, SD\, 57104\, United States
END:VEVENT
BEGIN:VEVENT
DTSTART;TZID=America/Chicago:20240725T120000
DTEND;TZID=America/Chicago:20240725T130000
DTSTAMP:20260424T031017
CREATED:20240529T183124Z
LAST-MODIFIED:20240529T183124Z
UID:10000422-1721908800-1721912400@siouxfallsypn.com
SUMMARY:A Seat at the Table with Korena Keys
DESCRIPTION:Join us for a seat at the table with Founder & CEO of KeyMedia Solutions\, Korena Keys. \nA Seat at the Table is reserved for YPN Members only. You must register in advance. \nYou will need to click “Login” on the top right to register for the event. Click “Forgot Password” to set up a password (make sure you use the email address associated with the Chamber). After that you should then be able to register.
URL:https://siouxfallsypn.com/event/a-seat-at-the-table-with-korena-keys/
LOCATION:Greater Sioux Falls Chamber of Commerce\, 200 N. Phillips Ave. Suite 200\, Sioux Falls\, SD\, 57104\, United States
CATEGORIES:A Seat At The Table,Professional Development
END:VEVENT
BEGIN:VEVENT
DTSTART;TZID=America/Chicago:20240730T120000
DTEND;TZID=America/Chicago:20240730T130000
DTSTAMP:20260424T031017
CREATED:20240523T203523Z
LAST-MODIFIED:20240523T203523Z
UID:10000420-1722340800-1722344400@siouxfallsypn.com
SUMMARY:Our Sioux Falls | McCrossan Boys Ranch
DESCRIPTION:Discover the story of McCrossan Boys Ranch—delve into its history\, explore the range of services offered\, and take a tour of their facility. Join us to learn and engage! \nRegistration is required. Limited to the first 25 to register. Please add it to your calendar if you do register. \nYou will need to click “Login” on the top right to register for the event. Click “Forgot Password” to set up a password (make sure you use the email address associated with the Chamber). After that you should then be able to register.
URL:https://siouxfallsypn.com/event/our-sioux-falls-mccrossan-boys-ranch/
LOCATION:McCrossan Boys Ranch\, 47135 260th St.\, Sioux Falls\, SD\, 57107
CATEGORIES:Civic Engagement,Our Sioux Falls
END:VEVENT
END:VCALENDAR