BEGIN:VCALENDAR
VERSION:2.0
PRODID:-//Sioux Falls Young Professionals Network - ECPv6.15.18//NONSGML v1.0//EN
CALSCALE:GREGORIAN
METHOD:PUBLISH
X-ORIGINAL-URL:https://siouxfallsypn.com
X-WR-CALDESC:Events for Sioux Falls Young Professionals Network
REFRESH-INTERVAL;VALUE=DURATION:PT1H
X-Robots-Tag:noindex
X-PUBLISHED-TTL:PT1H
BEGIN:VTIMEZONE
TZID:America/Chicago
BEGIN:DAYLIGHT
TZOFFSETFROM:-0600
TZOFFSETTO:-0500
TZNAME:CDT
DTSTART:20230312T080000
END:DAYLIGHT
BEGIN:STANDARD
TZOFFSETFROM:-0500
TZOFFSETTO:-0600
TZNAME:CST
DTSTART:20231105T070000
END:STANDARD
BEGIN:DAYLIGHT
TZOFFSETFROM:-0600
TZOFFSETTO:-0500
TZNAME:CDT
DTSTART:20240310T080000
END:DAYLIGHT
BEGIN:STANDARD
TZOFFSETFROM:-0500
TZOFFSETTO:-0600
TZNAME:CST
DTSTART:20241103T070000
END:STANDARD
BEGIN:DAYLIGHT
TZOFFSETFROM:-0600
TZOFFSETTO:-0500
TZNAME:CDT
DTSTART:20250309T080000
END:DAYLIGHT
BEGIN:STANDARD
TZOFFSETFROM:-0500
TZOFFSETTO:-0600
TZNAME:CST
DTSTART:20251102T070000
END:STANDARD
END:VTIMEZONE
BEGIN:VEVENT
DTSTART;TZID=America/Chicago:20240603T173000
DTEND;TZID=America/Chicago:20240812T203000
DTSTAMP:20260422T041157
CREATED:20240315T140046Z
LAST-MODIFIED:20240315T140714Z
UID:10000391-1717435800-1723494600@siouxfallsypn.com
SUMMARY:2024 YPN Golf League
DESCRIPTION:Let’s play golf! The 2024 YPN Golf League is the perfect opportunity to golf while enjoying a South Dakota summer and meeting new people. This year’s league will be held on Monday nights from June 3 – August 12 (no league on July 1) with tee times between 5:30-6:40 PM. Thirty-two players will be accepted into the league and each week you will have the opportunity to golf with three different YPN members. Courses will rotate from week to week. The play will be a 4-person scramble. \nLeague Schedule: \nWeek 1: 6/3 Bakker Crossing \nWeek 2: 6/10 Elmwood (Golf Bingo) \nWeek 3: 6/17 Brandon  \nWeek 4: 6/24 Prairie Green (4th of July attire) \nSkip July 4th Week \nWeek 5: 7/8 Willow Run  \nWeek 6: 7/15 Bakker Crossing (miss matched) \nWeek 7: 7/22 Elmwood  \nWeek 8: 7/29 Brandon (Hawaiian) \nWeek 9: 8/5 Willow Run  \nWeek 10: 8/12 Prairie Green  \n*Proof of GreatLife or City membership is required based on your registration selection below. \n** You are required to fill your spot with a fellow YPN member if you are unable to participate on a league night.** \nYou will need to click “Login” on the top right to register for the event. Click “Forgot Password” to set up a password (make sure you use the email address associated with the Chamber). After that you should then be able to register. \n 
URL:https://siouxfallsypn.com/event/2024-ypn-golf-league/
CATEGORIES:YPN Golf League
END:VEVENT
BEGIN:VEVENT
DTSTART;TZID=America/Chicago:20240801T073000
DTEND;TZID=America/Chicago:20240801T090000
DTSTAMP:20260422T041157
CREATED:20240711T135054Z
LAST-MODIFIED:20240711T135134Z
UID:10000426-1722497400-1722502800@siouxfallsypn.com
SUMMARY:Morning Buzz
DESCRIPTION:Join other YPN members for networking while getting your morning (coffee) buzz. Morning-minded young professionals are invited to come to enjoy coffee and conversation with other YPN members. August’s Morning Buzz will take place at Bagel Boy off of Minnesota Avenue.
URL:https://siouxfallsypn.com/event/morning-buzz-24/
LOCATION:Bagel Boy\, 2505 S. Minnesota Ave.\, Sioux Falls\, 57105
CATEGORIES:Morning Buzz,Networking
END:VEVENT
BEGIN:VEVENT
DTSTART;TZID=America/Chicago:20240805T120000
DTEND;TZID=America/Chicago:20240805T130000
DTSTAMP:20260422T041157
CREATED:20240615T150014Z
LAST-MODIFIED:20240729T185813Z
UID:10000400-1722859200-1722862800@siouxfallsypn.com
SUMMARY:A Seat at the Table with Tom Shields
DESCRIPTION:Join us for a seat at the table with Tom Shields\, Market President for American Bank & Trust. Shields has 30 years of experience building wealth and providing individuals with quality financial solutions around the Sioux Falls area. \nA Seat at the Table is reserved for YPN Members only. You must register in advance. \nYou will need to click “Login” on the top right to register for the event. Click “Forgot Password” to set up a password (make sure you use the email address associated with the Chamber). After that you should then be able to register.
URL:https://siouxfallsypn.com/event/a-seat-at-the-table-with-tom-shields/
LOCATION:Greater Sioux Falls Chamber of Commerce\, 200 N. Phillips Ave. Suite 200\, Sioux Falls\, SD\, 57104\, United States
CATEGORIES:A Seat At The Table,Professional Development
END:VEVENT
BEGIN:VEVENT
DTSTART;TZID=America/Chicago:20240814T160000
DTEND;TZID=America/Chicago:20240814T170000
DTSTAMP:20260422T041157
CREATED:20240410T163029Z
LAST-MODIFIED:20240410T163029Z
UID:10000406-1723651200-1723654800@siouxfallsypn.com
SUMMARY:Social Action Team Meeting
DESCRIPTION:Party planners and extroverts\, this team is for you! The Social Action Team plans all of the YPN networking and fun social events such as Off the Clock\, Morning Buzz\, Power Lunch\, and many others.
URL:https://siouxfallsypn.com/event/social-action-team-meeting-15/
LOCATION:Greater Sioux Falls Chamber of Commerce\, 200 N. Phillips Ave. Suite 200\, Sioux Falls\, SD\, 57104\, United States
END:VEVENT
BEGIN:VEVENT
DTSTART;TZID=America/Chicago:20240815T163000
DTEND;TZID=America/Chicago:20240815T183000
DTSTAMP:20260422T041157
CREATED:20240717T182845Z
LAST-MODIFIED:20240717T182848Z
UID:10000436-1723739400-1723746600@siouxfallsypn.com
SUMMARY:Off the Clock
DESCRIPTION:Join us for the August “Off the Clock.” In true YPN fashion\, you will have a chance to make new friends and business connections by networking in a relaxed setting. No registration required – just show up and encourage other young professionals or colleagues to join you. \nThis “Off the Clock” will be hosted at Museum of Visual Materials. \n 
URL:https://siouxfallsypn.com/event/off-the-clock-9/
LOCATION:Museum of Visual Materials\, 500 N. Main Ave.\, Sioux Falls\, South Dakota\, 57104
CATEGORIES:Networking,Off the Clock
END:VEVENT
BEGIN:VEVENT
DTSTART;TZID=America/Chicago:20240819T120000
DTEND;TZID=America/Chicago:20240819T130000
DTSTAMP:20260422T041157
CREATED:20240718T142530Z
LAST-MODIFIED:20240718T143611Z
UID:10000437-1724068800-1724072400@siouxfallsypn.com
SUMMARY:Power Lunch
DESCRIPTION:Research says one of the best ways to improve your productivity at work is to take a lunch break. So check out of the office (or your home office) for the noon hour and enjoy lunch with us! We do ask that you RSVP in advance so we can monitor space requirements. \nYou will need to click “Login” on the top right to register for the event. Click “Forgot Password” to set up a password (make sure you use the email address associated with the Chamber). After that you should then be able to register.
URL:https://siouxfallsypn.com/event/power-lunch-7/
LOCATION:The Attic East\, 4601 E. 41st St.\, Sioux Falls\, South Dakota\, 57110
END:VEVENT
BEGIN:VEVENT
DTSTART;TZID=America/Chicago:20240821T160000
DTEND;TZID=America/Chicago:20240821T170000
DTSTAMP:20260422T041157
CREATED:20240708T150016Z
LAST-MODIFIED:20240723T160016Z
UID:10000411-1724256000-1724259600@siouxfallsypn.com
SUMMARY:YPN Community Connections Tour: Veterans Community Project of Sioux Falls
DESCRIPTION:YPN Community Connections Tours provides the opportunity to get an inside look at a local business. On this tour\, you will view the behind the scenes of Veterans Community Project of Sioux Falls. \nRegistration is required. Limited to the first 20 to register. Please add it to your calendar if you do register. \nAfter clicking on “Register Now\,” you will need to click “Login” on the top right to register for the event. Click “Forgot Password” to set up a password (make sure you use the email address associated with the Chamber). After that you should then be able to register.
URL:https://siouxfallsypn.com/event/ypn-community-connections-tour-veterans-community-project-of-sioux-falls/
LOCATION:Veterans Community Project of Sioux Falls\, 367 North Willow Avenue\, Sioux Falls\, SD\, 57104\, United States
CATEGORIES:Community Connections Tour,Professional Development
END:VEVENT
BEGIN:VEVENT
DTSTART;TZID=America/Chicago:20240822T180000
DTEND;TZID=America/Chicago:20240822T210000
DTSTAMP:20260422T041157
CREATED:20240709T200618Z
LAST-MODIFIED:20240709T200618Z
UID:10000424-1724349600-1724360400@siouxfallsypn.com
SUMMARY:YPN Pickleball Tournament
DESCRIPTION:Join fellow young professionals for our inaugural YPN Pickleball Tournament! No need to be a pro—everyone is welcome to come and enjoy some friendly competition. This is a fantastic opportunity to network\, have fun\, and stay active.  \nDetails:\n– Date/Time: August 22nd\, 6:00-9:00 PM\n– Location: Huether Family Match Pointe\n– Cost: $15 per person\n– Teams will be assigned randomly \nRegistration is required\, so sign up now and get ready for a great time on the court! Equipment will be provided.
URL:https://siouxfallsypn.com/event/ypn-pickleball-tournament/
LOCATION:Huether Family Match Pointe\, 4210 N. Bobhalla Dr.\, Sioux Falls\, 57107\, United States
END:VEVENT
BEGIN:VEVENT
DTSTART;TZID=America/Chicago:20240828T160000
DTEND;TZID=America/Chicago:20240828T173000
DTSTAMP:20260422T041157
CREATED:20240812T181401Z
LAST-MODIFIED:20240812T181403Z
UID:10000444-1724860800-1724866200@siouxfallsypn.com
SUMMARY:Topics on Tap: Ballot Measure Breakdown
DESCRIPTION:Join us for an informative evening focused on the measures that will be on the ballot in the upcoming election. Mitch Rave\, VP of Public Policy\, and Aaron Vlasman\, Public Policy Manager\, both from the Greater Sioux Falls Chamber of Commerce\, will guide you through what each measure means and what you’ll be voting for. \nPlease note that registration is required\, and space is limited to the first 40 attendees.
URL:https://siouxfallsypn.com/event/topics-on-tap-ballot-measure-breakdown/
LOCATION:JJ’s Wine\, Spirits & Cigars\, 3000 W. 57th St.\, Sioux Falls\, 57108
END:VEVENT
BEGIN:VEVENT
DTSTART;TZID=America/Chicago:20240829T111500
DTEND;TZID=America/Chicago:20240829T234500
DTSTAMP:20260422T041157
CREATED:20240712T145754Z
LAST-MODIFIED:20240712T190349Z
UID:10000433-1724930100-1724975100@siouxfallsypn.com
SUMMARY:Inside Washington: A YPN Sit Down
DESCRIPTION:A Sit Down is a unique opportunity for YPN members to have a question and answer session with members of South Dakota’s federal delegation and is limited to X number of YPN members.  \nIn order to attend this event\, you must also register and attend Inside Washington\, held after this event. \nCongressman Dusty Johnson will participate in a conversation with Chamber members about activity in our nation’s capital city and will discuss current federal legislation and issues of importance to our local business community. The audience will have the opportunity to ask questions. \nModerator to be announced. \nThis event will begin at 11:15AM and includes a plated lunch at the Inside Washington event.  \nA YPN Sit Down is open to YPN members only. \nCost =$40.00 \nYou will need to click “Login” on the top right to register for the event. Click “Forgot Password” to set up a password (make sure you use the email address associated with the Chamber). After that you should then be able to register.
URL:https://siouxfallsypn.com/event/inside-washington-a-ypn-sit-down-2/
LOCATION:Sheraton Sioux Falls\, 1211 N W Ave\, Sioux Falls\, SD\, 57104\, United States
END:VEVENT
END:VCALENDAR