BEGIN:VCALENDAR
VERSION:2.0
PRODID:-//Sioux Falls Young Professionals Network - ECPv6.15.18//NONSGML v1.0//EN
CALSCALE:GREGORIAN
METHOD:PUBLISH
X-ORIGINAL-URL:https://siouxfallsypn.com
X-WR-CALDESC:Events for Sioux Falls Young Professionals Network
REFRESH-INTERVAL;VALUE=DURATION:PT1H
X-Robots-Tag:noindex
X-PUBLISHED-TTL:PT1H
BEGIN:VTIMEZONE
TZID:America/Chicago
BEGIN:DAYLIGHT
TZOFFSETFROM:-0600
TZOFFSETTO:-0500
TZNAME:CDT
DTSTART:20230312T080000
END:DAYLIGHT
BEGIN:STANDARD
TZOFFSETFROM:-0500
TZOFFSETTO:-0600
TZNAME:CST
DTSTART:20231105T070000
END:STANDARD
BEGIN:DAYLIGHT
TZOFFSETFROM:-0600
TZOFFSETTO:-0500
TZNAME:CDT
DTSTART:20240310T080000
END:DAYLIGHT
BEGIN:STANDARD
TZOFFSETFROM:-0500
TZOFFSETTO:-0600
TZNAME:CST
DTSTART:20241103T070000
END:STANDARD
BEGIN:DAYLIGHT
TZOFFSETFROM:-0600
TZOFFSETTO:-0500
TZNAME:CDT
DTSTART:20250309T080000
END:DAYLIGHT
BEGIN:STANDARD
TZOFFSETFROM:-0500
TZOFFSETTO:-0600
TZNAME:CST
DTSTART:20251102T070000
END:STANDARD
END:VTIMEZONE
BEGIN:VEVENT
DTSTART;TZID=America/Chicago:20240905T073000
DTEND;TZID=America/Chicago:20240905T090000
DTSTAMP:20260422T024535
CREATED:20240509T192038Z
LAST-MODIFIED:20240509T192038Z
UID:10000419-1725521400-1725526800@siouxfallsypn.com
SUMMARY:Morning Buzz
DESCRIPTION:Join other YPN members for networking while getting your morning (coffee) buzz. Morning-minded young professionals are invited to come to enjoy coffee and conversation with other YPN members.
URL:https://siouxfallsypn.com/event/morning-buzz-23/
LOCATION:First International Bank & Trust\, 601 S. Minnesota Ave.\, Sioux Falls\, 57104
CATEGORIES:Morning Buzz,Networking
END:VEVENT
BEGIN:VEVENT
DTSTART;TZID=America/Chicago:20240910T120000
DTEND;TZID=America/Chicago:20240910T130000
DTSTAMP:20260422T024535
CREATED:20240801T130053Z
LAST-MODIFIED:20240905T140954Z
UID:10000416-1725969600-1725973200@siouxfallsypn.com
SUMMARY:Focus Workshop: Living BIG with Boundaries\, Integrity\, and Generosity
DESCRIPTION:Join us for this YPN Focus Workshop and hear from Melissa Hiatt from Embe about Living BIG with Boundaries\, Integrity\, and Generosity. \nClear is kind\, unclear is unkind. Establishing boundaries can help us work from a place integrity\, set expectation\, and extend the most generous interpretations of the intentions\, words\, and actions of others. \nAs a result of this session\, participants will be able to: \n\nreflect on and write a boundary around a current leadership struggle.\nexplain how authenticity is cultivated by establishing boundaries\, practicing integrity\, and extending generosity.\n\n. Don’t miss out on this invaluable opportunity to gain insights and inspiration! \nRegistration is required! \nAfter clicking on “Register Now\,” you will need to click “Login” on the top right to register for the event. Click “Forgot Password” to set up a password (make sure you use the email address associated with the Chamber). After that you should then be able to register.
URL:https://siouxfallsypn.com/event/focus-workshop-living-big-with-boundaries-integrity-and-generosity/
LOCATION:Greater Sioux Falls Chamber of Commerce\, 200 N. Phillips Ave. Suite 200\, Sioux Falls\, SD\, 57104\, United States
CATEGORIES:Focus Workshop,Professional Development
END:VEVENT
BEGIN:VEVENT
DTSTART;TZID=America/Chicago:20240911T120000
DTEND;TZID=America/Chicago:20240911T130000
DTSTAMP:20260422T024535
CREATED:20240801T130022Z
LAST-MODIFIED:20240730T213331Z
UID:10000415-1726056000-1726059600@siouxfallsypn.com
SUMMARY:A Seat at the Table with Erica Beck
DESCRIPTION:Join us for a seat at the table with City of Sioux Falls Chief of Staff\, Erica Beck.\n\nA Seat at the Table is reserved for YPN Members only. You must register in advance.\n\nYou will need to click “Login” on the top right to register for the event. Click “Forgot Password” to set up a password (make sure you use the email address associated with the Chamber). After that you should then be able to register.
URL:https://siouxfallsypn.com/event/a-seat-at-the-table-with-erica-beck/
LOCATION:Greater Sioux Falls Chamber of Commerce\, 200 N. Phillips Ave. Suite 200\, Sioux Falls\, SD\, 57104\, United States
CATEGORIES:A Seat At The Table,Professional Development
END:VEVENT
BEGIN:VEVENT
DTSTART;TZID=America/Chicago:20240911T160000
DTEND;TZID=America/Chicago:20240911T170000
DTSTAMP:20260422T024535
CREATED:20240410T163052Z
LAST-MODIFIED:20240410T163052Z
UID:10000407-1726070400-1726074000@siouxfallsypn.com
SUMMARY:Social Action Team Meeting
DESCRIPTION:Party planners and extroverts\, this team is for you! The Social Action Team plans all of the YPN networking and fun social events such as Off the Clock\, Morning Buzz\, Power Lunch\, and many others.
URL:https://siouxfallsypn.com/event/social-action-team-meeting-16/
LOCATION:Greater Sioux Falls Chamber of Commerce\, 200 N. Phillips Ave. Suite 200\, Sioux Falls\, SD\, 57104\, United States
END:VEVENT
BEGIN:VEVENT
DTSTART;TZID=America/Chicago:20240912T170000
DTEND;TZID=America/Chicago:20240912T190000
DTSTAMP:20260422T024535
CREATED:20240801T192839Z
LAST-MODIFIED:20240912T193453Z
UID:10000443-1726160400-1726167600@siouxfallsypn.com
SUMMARY:Off the Clock
DESCRIPTION:Join us for the September “Off the Clock.” In true YPN fashion\, you will have a chance to make new friends and business connections by networking in a relaxed setting. No registration required – just show up and encourage other young professionals or colleagues to join you. \nDirections: \nPark at Sherman Park in Lot A (Parking Lot VIP\, Sherman Park Rd.\, Sioux Falls\, SD\, 57104.) Upon parking\, guests will hop on our shuttle to head “up the hill” from the VIP Lot and will be dropped off at the front of the clubhouse.  From there\, they will be directed to the PREMIER Club (short walk).  We will have golf charts available too\, from the clubhouse to PREMIER Club. \nThis “Off the Clock” will be hosted at the Sanford International
URL:https://siouxfallsypn.com/event/off-the-clock-10/
LOCATION:Minnehaha Country Club\, 3101 W. 22nd St.\, Sioux Falls
CATEGORIES:Networking,Off the Clock
END:VEVENT
BEGIN:VEVENT
DTSTART;TZID=America/Chicago:20240916T160000
DTEND;TZID=America/Chicago:20240916T170000
DTSTAMP:20260422T024535
CREATED:20240801T130000Z
LAST-MODIFIED:20240730T213249Z
UID:10000441-1726502400-1726506000@siouxfallsypn.com
SUMMARY:YPN Community Connections Tour: Bishop Dudley Hospitality House
DESCRIPTION:YPN Community Connections Tours provides the opportunity to get an inside look at a local business. On this tour\, you will view the behind the scenes of the Bishop Dudley Hospitality House. The Bishop Dudley Hospitality House is a non-profit ecumenical ministry\, in collaboration with other social service providers\, serving as a central\, first-stop resource for those in need of day and night time shelter essential services. \nRegistration is required. Limited to the first 25 to register. Please add it to your calendar if you do register. \nRegister Here: https://web.siouxfallschamber.com/events/YPN-Community-Connections-Tour-Bishop-Dudley-Hospitality-House-2641/details
URL:https://siouxfallsypn.com/event/ypn-community-connections-tour-bishop-dudley-hospitality-house/
LOCATION:Bishop Dudley Hospitality House\, 101 N Indiana Ave\, Sioux Falls\, South Dakota\, 57103
CATEGORIES:Community Connections Tour,Professional Development
END:VEVENT
BEGIN:VEVENT
DTSTART;TZID=America/Chicago:20240918T120000
DTEND;TZID=America/Chicago:20240918T130000
DTSTAMP:20260422T024535
CREATED:20240718T142742Z
LAST-MODIFIED:20240718T142746Z
UID:10000438-1726660800-1726664400@siouxfallsypn.com
SUMMARY:Power Lunch
DESCRIPTION:Research says one of the best ways to improve your productivity at work is to take a lunch break. So check out of the office (or your home office) for the noon hour and enjoy lunch with us! We do ask that you RSVP in advance so we can monitor space requirements. \nYou will need to click “Login” on the top right to register for the event. Click “Forgot Password” to set up a password (make sure you use the email address associated with the Chamber). After that you should then be able to register.
URL:https://siouxfallsypn.com/event/power-lunch-8/
LOCATION:Falls Overlook Cafe by Stensland\, 825 N. Weber Ave.\, Sioux Falls\, 57103
END:VEVENT
BEGIN:VEVENT
DTSTART;TZID=America/Chicago:20240925T120000
DTEND;TZID=America/Chicago:20240925T130000
DTSTAMP:20260422T024535
CREATED:20240410T163220Z
LAST-MODIFIED:20240410T163220Z
UID:10000410-1727265600-1727269200@siouxfallsypn.com
SUMMARY:Personal & Professional Development/Civic Engagement Action Team
DESCRIPTION:This action team plans tours of new projects in town\, lines up phenomenal speakers and generally guides the educational elements of YPN while also looking for ways to educate YPN members about current issues in our community and encourage civic participation among young professionals. . If you enjoy brainstorming events that help young professionals develop both personally and professionally then this is the team for you!
URL:https://siouxfallsypn.com/event/personal-professional-development-civic-engagement-action-team-6/
LOCATION:Greater Sioux Falls Chamber of Commerce\, 200 N. Phillips Ave. Suite 200\, Sioux Falls\, SD\, 57104\, United States
END:VEVENT
BEGIN:VEVENT
DTSTART;TZID=America/Chicago:20240926T090000
DTEND;TZID=America/Chicago:20240926T173000
DTSTAMP:20260422T024535
CREATED:20240715T170044Z
LAST-MODIFIED:20240725T160351Z
UID:10000429-1727341200-1727371800@siouxfallsypn.com
SUMMARY:YPN Golf Tournament
DESCRIPTION:YPN Golf Tournament\n			September 26\n	  at\n9:00 am\n	  –\n5:30 pm \n \nJoin fellow young professionals for our golf tournament! An afternoon of fun\, sun and 18 holes of golf at Grand Falls Casino and Golf Resort for the 15th Annual YPN Golf Tournament! No need to be a pro – all young professionals are welcome to play and spend the afternoon networking with one another. Prizes will be awarded at the Post-Party immediately following the Golf Tournament. Be sure to wear your Vegas-themed golf gear! \nForm your own team of four or we can do it for you. There must be at least one YPN Member on every team. If you’re signing up as a team\, only one team member needs to register. \nRegistration:$100 per individual$400 per team \nEntry fee includes:18 holes of golf plus cartLunchAppetizers after tournamentChance to win great prizes! \nWe’ll be selling mulligans again this year! We would appreciate if you purchased mulligans in advance online.$10 for 1 mulligan (max of 2 mulligans per golfer)$80 for entire team (8 total mulligans) \nRegistration will begin at 9 AM with a shotgun start at 10 AM. \nInterested in sponsoring this event? Email jpieters@siouxfalls.com \n \n \n\n			\n		Grand Falls Casino & Golf Resort			\n	\n\n1415 Grand Falls Blvd.\n		\n		Larchwood\,\n	IA\n	51241\n	United States\n\n\n					\n						\n	 \n\n\n\n\n	\n	Add to calendar	\n		\n	\n \n\n\n	Google Calendar\n\n\n	iCalendar\n\n\n	Outlook 365\n\n\n	Outlook Live\n\n\n\n			\n									Register Now!\n					 \n\nThank you to our sponsors
URL:https://siouxfallsypn.com/event/ypn-golf-tournament-3/
LOCATION:Grand Falls Casino & Golf Resort\, 1415 Grand Falls Blvd.\, Larchwood\, IA\, 51241\, United States
END:VEVENT
BEGIN:VEVENT
DTSTART;TZID=America/Chicago:20240930T160000
DTEND;TZID=America/Chicago:20240930T170000
DTSTAMP:20260422T024535
CREATED:20240828T154939Z
LAST-MODIFIED:20240828T154943Z
UID:10000450-1727712000-1727715600@siouxfallsypn.com
SUMMARY:YPN Community Connections Tour: Scherer Inc.
DESCRIPTION:It’s manufacturing week! YPN Community Connections Tours provides the opportunity to get an inside look at a local business. On this tour\, you will view the behind the scenes of Scherer Inc. \nRegistration is required. Limited to the first 25 to register. Please add it to your calendar if you do register.
URL:https://siouxfallsypn.com/event/ypn-community-connections-tour-scherer-inc/
LOCATION:Scherer Inc.\, 4940 W. Foundation Court\, Sioux Falls\, South Dakota\, 57107\, United States
CATEGORIES:Community Connections Tour,Professional Development
END:VEVENT
END:VCALENDAR