BEGIN:VCALENDAR
VERSION:2.0
PRODID:-//Sioux Falls Young Professionals Network - ECPv6.15.18//NONSGML v1.0//EN
CALSCALE:GREGORIAN
METHOD:PUBLISH
X-ORIGINAL-URL:https://siouxfallsypn.com
X-WR-CALDESC:Events for Sioux Falls Young Professionals Network
REFRESH-INTERVAL;VALUE=DURATION:PT1H
X-Robots-Tag:noindex
X-PUBLISHED-TTL:PT1H
BEGIN:VTIMEZONE
TZID:America/Chicago
BEGIN:DAYLIGHT
TZOFFSETFROM:-0600
TZOFFSETTO:-0500
TZNAME:CDT
DTSTART:20230312T080000
END:DAYLIGHT
BEGIN:STANDARD
TZOFFSETFROM:-0500
TZOFFSETTO:-0600
TZNAME:CST
DTSTART:20231105T070000
END:STANDARD
BEGIN:DAYLIGHT
TZOFFSETFROM:-0600
TZOFFSETTO:-0500
TZNAME:CDT
DTSTART:20240310T080000
END:DAYLIGHT
BEGIN:STANDARD
TZOFFSETFROM:-0500
TZOFFSETTO:-0600
TZNAME:CST
DTSTART:20241103T070000
END:STANDARD
BEGIN:DAYLIGHT
TZOFFSETFROM:-0600
TZOFFSETTO:-0500
TZNAME:CDT
DTSTART:20250309T080000
END:DAYLIGHT
BEGIN:STANDARD
TZOFFSETFROM:-0500
TZOFFSETTO:-0600
TZNAME:CST
DTSTART:20251102T070000
END:STANDARD
END:VTIMEZONE
BEGIN:VEVENT
DTSTART;TZID=America/Chicago:20241001T160000
DTEND;TZID=America/Chicago:20241001T170000
DTSTAMP:20260422T012358
CREATED:20240814T130000Z
LAST-MODIFIED:20240801T145415Z
UID:10000440-1727798400-1727802000@siouxfallsypn.com
SUMMARY:YPN Community Connections Tour: Midwest Railcar Repair Inc.
DESCRIPTION:It’s manufacturing week! YPN Community Connections Tours provides the opportunity to get an inside look at a local business. On this tour\, you will view the behind the scenes of Midwest Railcar Repair Inc. \nRegistration is required. Limited to the first 25 to register. Please add it to your calendar if you do register.
URL:https://siouxfallsypn.com/event/ypn-community-connections-tour-midwest-railcar-repair-inc/
LOCATION:Midwest Railcar Repair Inc.\, 25965 482nd Ave.\, Brandon\, South Dakota\, 57005\, United States
CATEGORIES:Community Connections Tour,Professional Development
END:VEVENT
BEGIN:VEVENT
DTSTART;TZID=America/Chicago:20241002T160000
DTEND;TZID=America/Chicago:20241002T170000
DTSTAMP:20260422T012358
CREATED:20240828T180120Z
LAST-MODIFIED:20240828T182010Z
UID:10000442-1727884800-1727888400@siouxfallsypn.com
SUMMARY:YPN Community Connections Tour: P&M Steel Company
DESCRIPTION:It’s manufacturing week! YPN Community Connections Tours provides the opportunity to get an inside look at a local business. On this tour\, you will view the behind the scenes of P&M Steel Company. \nRegistration is required. Limited to the first 25 to register. Please add it to your calendar if you do register.
URL:https://siouxfallsypn.com/event/ypn-community-connections-tour-pm-steel-company/
LOCATION:P&M Steel Company\, 4401 N. Westport Ave.\, Sioux Falls\, 57107
CATEGORIES:Community Connections Tour,Professional Development
END:VEVENT
BEGIN:VEVENT
DTSTART;TZID=America/Chicago:20241003T073000
DTEND;TZID=America/Chicago:20241003T090000
DTSTAMP:20260422T012358
CREATED:20240821T134814Z
LAST-MODIFIED:20240916T181847Z
UID:10000446-1727940600-1727946000@siouxfallsypn.com
SUMMARY:Morning Buzz - First PREMIER Bank
DESCRIPTION:Join other YPN members for networking while getting your morning (coffee) buzz. Morning-minded young professionals are invited to come to enjoy coffee and conversation with other YPN members. This Morning Buzz is being hosted by First PREMIER Bank & PREMIER Bankcard.
URL:https://siouxfallsypn.com/event/morning-buzz-25/
LOCATION:South Dakota Military Heritage Alliance\, Inc.\, 1600 W. Russell St.\, Sioux Falls\, South Dakota\, 57104
CATEGORIES:Morning Buzz,Networking
END:VEVENT
BEGIN:VEVENT
DTSTART;TZID=America/Chicago:20241009T111500
DTEND;TZID=America/Chicago:20241009T234500
DTSTAMP:20260422T012358
CREATED:20240827T141938Z
LAST-MODIFIED:20240827T141941Z
UID:10000449-1728472500-1728517500@siouxfallsypn.com
SUMMARY:Inside Washington: A YPN Sit Down
DESCRIPTION:A Sit Down is a unique opportunity for YPN members to have a question and answer session with members of South Dakota’s federal delegation and is limited to 30 number of YPN members. \nIn order to attend this event\, you must also register and attend Inside Washington\, held after this event. \nSenator Mike Rounds will participate in a conversation with Chamber members about activity in our nation’s capital city and will discuss current federal legislation and issues of importance to our local business community. The audience will have the opportunity to ask questions. \nModerator to be announced. \nThis event will begin at 11:15AM and includes a plated lunch at the Inside Washington event. \nA YPN Sit Down is open to YPN members only. \nCost =$40.00 \nYou will need to click “Login” on the top right to register for the event. Click “Forgot Password” to set up a password (make sure you use the email address associated with the Chamber). After that you should then be able to register.
URL:https://siouxfallsypn.com/event/inside-washington-a-ypn-sit-down-3/
LOCATION:Sioux Falls Convention Center\, 1201 North West Avenue\, Sioux Falls\, 57104
END:VEVENT
BEGIN:VEVENT
DTSTART;TZID=America/Chicago:20241017T163000
DTEND;TZID=America/Chicago:20241017T183000
DTSTAMP:20260422T012358
CREATED:20240920T191212Z
LAST-MODIFIED:20240920T191215Z
UID:10000452-1729182600-1729189800@siouxfallsypn.com
SUMMARY:Off the Clock
DESCRIPTION:Join us for the September “Off the Clock.” In true YPN fashion\, you will have a chance to make new friends and business connections by networking in a relaxed setting. No registration required – just show up and encourage other young professionals or colleagues to join you. \nThis “Off the Clock” will be hosted at the Great Plains Zoo
URL:https://siouxfallsypn.com/event/off-the-clock-11/
LOCATION:Great Plains Zoo\, 805 S Kiwanis Ave.\, Sioux Falls\, South Dakota\, 57104
CATEGORIES:Networking,Off the Clock
END:VEVENT
BEGIN:VEVENT
DTSTART;TZID=America/Chicago:20241023T120000
DTEND;TZID=America/Chicago:20241023T130000
DTSTAMP:20260422T012358
CREATED:20240821T135434Z
LAST-MODIFIED:20240821T135438Z
UID:10000448-1729684800-1729688400@siouxfallsypn.com
SUMMARY:Power Lunch
DESCRIPTION:Research says one of the best ways to improve your productivity at work is to take a lunch break. So check out of the office (or your home office) for the noon hour and enjoy lunch with us! We do ask that you RSVP in advance so we can monitor space requirements. \nYou will need to click “Login” on the top right to register for the event. Click “Forgot Password” to set up a password (make sure you use the email address associated with the Chamber). After that you should then be able to register.
URL:https://siouxfallsypn.com/event/power-lunch-9/
LOCATION:Blue Rock Bar & Grill\, 4021 Bobhalla Drive\, Sioux Falls\, SD\, 57107\, United States
END:VEVENT
BEGIN:VEVENT
DTSTART;TZID=America/Chicago:20241030T120000
DTEND;TZID=America/Chicago:20241030T130000
DTSTAMP:20260422T012358
CREATED:20241007T130546Z
LAST-MODIFIED:20241007T130550Z
UID:10000459-1730289600-1730293200@siouxfallsypn.com
SUMMARY:A Seat at the Table with Erica Beck
DESCRIPTION:Join us for a seat at the table with City of Sioux Falls Chief of Staff\, Erica Beck. \nA Seat at the Table is reserved for YPN Members only. You must register in advance. \nYou will need to click “Login” on the top right to register for the event. Click “Forgot Password” to set up a password (make sure you use the email address associated with the Chamber). After that you should then be able to register.
URL:https://siouxfallsypn.com/event/a-seat-at-the-table-with-erica-beck-2/
LOCATION:Greater Sioux Falls Chamber of Commerce\, 200 N. Phillips Ave. Suite 200\, Sioux Falls\, SD\, 57104\, United States
CATEGORIES:A Seat At The Table,Professional Development
END:VEVENT
END:VCALENDAR