BEGIN:VCALENDAR
VERSION:2.0
PRODID:-//Sioux Falls Young Professionals Network - ECPv6.15.18//NONSGML v1.0//EN
CALSCALE:GREGORIAN
METHOD:PUBLISH
X-ORIGINAL-URL:https://siouxfallsypn.com
X-WR-CALDESC:Events for Sioux Falls Young Professionals Network
REFRESH-INTERVAL;VALUE=DURATION:PT1H
X-Robots-Tag:noindex
X-PUBLISHED-TTL:PT1H
BEGIN:VTIMEZONE
TZID:America/Chicago
BEGIN:DAYLIGHT
TZOFFSETFROM:-0600
TZOFFSETTO:-0500
TZNAME:CDT
DTSTART:20230312T080000
END:DAYLIGHT
BEGIN:STANDARD
TZOFFSETFROM:-0500
TZOFFSETTO:-0600
TZNAME:CST
DTSTART:20231105T070000
END:STANDARD
BEGIN:DAYLIGHT
TZOFFSETFROM:-0600
TZOFFSETTO:-0500
TZNAME:CDT
DTSTART:20240310T080000
END:DAYLIGHT
BEGIN:STANDARD
TZOFFSETFROM:-0500
TZOFFSETTO:-0600
TZNAME:CST
DTSTART:20241103T070000
END:STANDARD
BEGIN:DAYLIGHT
TZOFFSETFROM:-0600
TZOFFSETTO:-0500
TZNAME:CDT
DTSTART:20250309T080000
END:DAYLIGHT
BEGIN:STANDARD
TZOFFSETFROM:-0500
TZOFFSETTO:-0600
TZNAME:CST
DTSTART:20251102T070000
END:STANDARD
END:VTIMEZONE
BEGIN:VEVENT
DTSTART;TZID=America/Chicago:20241104T120000
DTEND;TZID=America/Chicago:20241104T130000
DTSTAMP:20260422T000022
CREATED:20241009T153755Z
LAST-MODIFIED:20241009T153759Z
UID:10000461-1730721600-1730725200@siouxfallsypn.com
SUMMARY:A Seat at the Table with Miles Beacom
DESCRIPTION:Join us for a seat at the table with Mile Beacom\, Chief Executive Officer of PREMIER Bankcard. Under Beacom’s leadership\, PREMIER Bankcard has grown to employee over 1500 people in South Dakota serving more than 4 million customers nationwide\, making the company the 14th largest issuer of Mastercard credit cards in the country. \nBeacom has served on the Board of Directors for numerous organizations\, including Sanford Health International\, Sioux Falls Area Community Foundation\, United Way\, Dakota State University\, Catholic Diocese Foundation\, the Catholic Community Foundation for Eastern South Dakota\, and the Freedom Scholarship Board. \nBeacom is a graduate of Dakota State University and has provided three gifts to DSU for the construction of academic\, research and athletic facilities. In 2009\, the University of South Dakota dedicated the Beacom School of Business in his honor. \nA Seat at the Table is reserved for YPN Members only. You must register in advance. \nYou will need to click “Login” on the top right to register for the event. Click “Forgot Password” to set up a password (make sure you use the email address associated with the Chamber). After that you should then be able to register.
URL:https://siouxfallsypn.com/event/a-seat-at-the-table-with-miles-beacom/
LOCATION:Greater Sioux Falls Chamber of Commerce\, 200 N. Phillips Ave. Suite 200\, Sioux Falls\, SD\, 57104\, United States
CATEGORIES:A Seat At The Table,Professional Development
END:VEVENT
BEGIN:VEVENT
DTSTART;TZID=America/Chicago:20241105T120000
DTEND;TZID=America/Chicago:20241105T130000
DTSTAMP:20260422T000022
CREATED:20241009T192025Z
LAST-MODIFIED:20241009T192029Z
UID:10000462-1730808000-1730811600@siouxfallsypn.com
SUMMARY:Power Lunch
DESCRIPTION:Research says one of the best ways to improve your productivity at work is to take a lunch break. So check out of the office (or your home office) for the noon hour and enjoy lunch with us! We do ask that you RSVP in advance so we can monitor space requirements. \nYou will need to click “Login” on the top right to register for the event. Click “Forgot Password” to set up a password (make sure you use the email address associated with the Chamber). After that you should then be able to register.
URL:https://siouxfallsypn.com/event/power-lunch-10/
LOCATION:All Day Cafe\, 2101 W 41st St.\, Sioux Falls\, South Dakota\, 57105
END:VEVENT
BEGIN:VEVENT
DTSTART;TZID=America/Chicago:20241107T073000
DTEND;TZID=America/Chicago:20241107T090000
DTSTAMP:20260422T000022
CREATED:20240821T135032Z
LAST-MODIFIED:20240821T135035Z
UID:10000447-1730964600-1730970000@siouxfallsypn.com
SUMMARY:Morning Buzz
DESCRIPTION:Join other YPN members for networking while getting your morning (coffee) buzz. Morning-minded young professionals are invited to come to enjoy coffee and conversation with other YPN members. This Morning Buzz is being hosted by The Sampson House.
URL:https://siouxfallsypn.com/event/morning-buzz-26/
LOCATION:The Sampson House\, 522 N. Main Ave.\, Suite 100\, Sioux Falls\, South Dakota\, 57104
CATEGORIES:Morning Buzz,Networking
END:VEVENT
BEGIN:VEVENT
DTSTART;TZID=America/Chicago:20241111T120000
DTEND;TZID=America/Chicago:20241111T130000
DTSTAMP:20260422T000022
CREATED:20240925T130000Z
LAST-MODIFIED:20241011T163004Z
UID:10000439-1731326400-1731330000@siouxfallsypn.com
SUMMARY:Our Sioux Falls | Teddy Bear Den
DESCRIPTION:Discover the story of the Teddy Bear Den—delve into its history\, explore the range of services offered\, and take a tour of their facility. Join us to learn and engage! \nRegistration is required. Limited to the first 15 to register. Please add it to your calendar if you do register. \nYou will need to click “Login” on the top right to register for the event. Click “Forgot Password” to set up a password (make sure you use the email address associated with the Chamber). After that you should then be able to register.
URL:https://siouxfallsypn.com/event/our-sioux-falls-mccrossan-boys-ranch-2/
LOCATION:The Teddy Bear Den\, 500 S Main Ave\, Sioux Falls\, South Dakota\, 57104
CATEGORIES:Our Sioux Falls,Professional Development
END:VEVENT
BEGIN:VEVENT
DTSTART;TZID=America/Chicago:20241113T120000
DTEND;TZID=America/Chicago:20241113T130000
DTSTAMP:20260422T000022
CREATED:20240925T130000Z
LAST-MODIFIED:20240828T182237Z
UID:10000451-1731499200-1731502800@siouxfallsypn.com
SUMMARY:A Seat at the Table with Lisa Romkema
DESCRIPTION:Join us for a seat at the table with Lisa Romkema\, CEO of Sioux Empire United Way. \nLisa was originally born and raised on a farm near Springfield\, South Dakota and her very first job was destasseling corn for a few weeks one summer! She went on to earn a degree in Business/Marketing from Dakota State University. After graduation\, she worked for Target as an Executive Team Leader\, relocating from Watertown\, SD to Fargo\, ND\, and eventually the Twin Cities\, before deciding to move back closer to home. \nLisa is well-acquainted with SEUW\, having previously served as Campaign Director from 2010 to 2015. She has a successful track record of annual giving campaigns\, major giving\, and planned giving\, with nearly 14 years of experience in fundraising and nonprofit leadership.  \nNow as the CEO\, Lisa will be responsible for the overall strategic vision and leadership to a talented professional team\, as well as to a dedicated board\, community volunteers\, agency partners\, and organizational stakeholders. According to Lisa\, she is thrilled and “excited does even scratch the surface!” \nA Seat at the Table is reserved for YPN Members only. You must register in advance. \nYou will need to click “Login” on the top right to register for the event. Click “Forgot Password” to set up a password (make sure you use the email address associated with the Chamber). After that you should then be able to register.
URL:https://siouxfallsypn.com/event/a-seat-at-the-table-with-lisa-romkema/
LOCATION:Greater Sioux Falls Chamber of Commerce\, 200 N. Phillips Ave. Suite 200\, Sioux Falls\, SD\, 57104\, United States
CATEGORIES:A Seat At The Table,Professional Development
END:VEVENT
BEGIN:VEVENT
DTSTART;TZID=America/Chicago:20241113T160000
DTEND;TZID=America/Chicago:20241113T170000
DTSTAMP:20260422T000022
CREATED:20241011T160855Z
LAST-MODIFIED:20241011T160859Z
UID:10000464-1731513600-1731517200@siouxfallsypn.com
SUMMARY:Social Action Team Meeting
DESCRIPTION:Party planners and extroverts\, this team is for you! The Social Action Team plans all of the YPN networking and fun social events such as Off the Clock\, Morning Buzz\, Power Lunch\, and many others.
URL:https://siouxfallsypn.com/event/social-action-team-meeting-17/
LOCATION:Greater Sioux Falls Chamber of Commerce\, 200 N. Phillips Ave. Suite 200\, Sioux Falls\, SD\, 57104\, United States
END:VEVENT
BEGIN:VEVENT
DTSTART;TZID=America/Chicago:20241119T160000
DTEND;TZID=America/Chicago:20241119T170000
DTSTAMP:20260422T000022
CREATED:20241022T135408Z
LAST-MODIFIED:20241114T211824Z
UID:10000470-1732032000-1732035600@siouxfallsypn.com
SUMMARY:YPN Community Connections Tour: Boys & Girls Club of the Sioux Empire
DESCRIPTION: \n\n\n\n\n\n\n\n\n\n\nYPN Community Connections Tours offer a unique opportunity to explore local businesses up close. On this tour\, you’ll get an behind-the-scenes look at the Boys & Girls Club of the Sioux Empire \nRegistration is required\, and spots are limited to the first 25 registrants. If you sign up\, be sure to mark your calendar! \nWe are committed to providing a welcoming and accessible experience for all event attendees. If you require any accommodations\, please reach out to Jaci Pieters at jpieters@siouxfalls.com. We will make every effort to meet your needs.
URL:https://siouxfallsypn.com/event/ypn-community-connections-tour-boys-girls-club-of-the-sioux-empire/
LOCATION:Boys & Girls Club of the Sioux Empire\, 2001 E 8th St.\, Sioux Falls\, South Dakota
CATEGORIES:Community Connections Tour,Professional Development
END:VEVENT
BEGIN:VEVENT
DTSTART;TZID=America/Chicago:20241120T120000
DTEND;TZID=America/Chicago:20241120T130000
DTSTAMP:20260422T000022
CREATED:20241011T161101Z
LAST-MODIFIED:20241011T161104Z
UID:10000467-1732104000-1732107600@siouxfallsypn.com
SUMMARY:Personal & Professional Development/Civic Engagement Action Team
DESCRIPTION:This action team plans tours of new projects in town\, lines up phenomenal speakers and generally guides the educational elements of YPN while also looking for ways to educate YPN members about current issues in our community and encourage civic participation among young professionals. . If you enjoy brainstorming events that help young professionals develop both personally and professionally then this is the team for you!
URL:https://siouxfallsypn.com/event/personal-professional-development-civic-engagement-action-team-7/
LOCATION:Greater Sioux Falls Chamber of Commerce\, 200 N. Phillips Ave. Suite 200\, Sioux Falls\, SD\, 57104\, United States
END:VEVENT
BEGIN:VEVENT
DTSTART;TZID=America/Chicago:20241126T163000
DTEND;TZID=America/Chicago:20241126T190000
DTSTAMP:20260422T000022
CREATED:20241009T153210Z
LAST-MODIFIED:20241114T211810Z
UID:10000460-1732638600-1732647600@siouxfallsypn.com
SUMMARY:Meet Me at the Mixer
DESCRIPTION:Meet up with other YPN members to expand your network at the Chamber’s November Mixer. This event features the annual Holiday Fair with Chamber member businesses showcasing their products and services. If you’ve never been to a Chamber Mixer before\, just look for the YPN booth and we’ll help you get connected! \nComplimentary hor d’oeuvres & cash bar. \nCOST: $5.00 \nWe are committed to providing a welcoming and accessible experience for all event attendees. If you require any accommodations\, please reach out to Jaci Pieters at jpieters@siouxfalls.com. We will make every effort to meet your needs.
URL:https://siouxfallsypn.com/event/meet-me-at-the-mixer-4/
LOCATION:The DISTRICT\, 4521 W. Empire Place\, Sioux Falls\, 57106
END:VEVENT
END:VCALENDAR