BEGIN:VCALENDAR
VERSION:2.0
PRODID:-//Sioux Falls Young Professionals Network - ECPv6.15.18//NONSGML v1.0//EN
CALSCALE:GREGORIAN
METHOD:PUBLISH
X-ORIGINAL-URL:https://siouxfallsypn.com
X-WR-CALDESC:Events for Sioux Falls Young Professionals Network
REFRESH-INTERVAL;VALUE=DURATION:PT1H
X-Robots-Tag:noindex
X-PUBLISHED-TTL:PT1H
BEGIN:VTIMEZONE
TZID:America/Chicago
BEGIN:DAYLIGHT
TZOFFSETFROM:-0600
TZOFFSETTO:-0500
TZNAME:CDT
DTSTART:20230312T080000
END:DAYLIGHT
BEGIN:STANDARD
TZOFFSETFROM:-0500
TZOFFSETTO:-0600
TZNAME:CST
DTSTART:20231105T070000
END:STANDARD
BEGIN:DAYLIGHT
TZOFFSETFROM:-0600
TZOFFSETTO:-0500
TZNAME:CDT
DTSTART:20240310T080000
END:DAYLIGHT
BEGIN:STANDARD
TZOFFSETFROM:-0500
TZOFFSETTO:-0600
TZNAME:CST
DTSTART:20241103T070000
END:STANDARD
BEGIN:DAYLIGHT
TZOFFSETFROM:-0600
TZOFFSETTO:-0500
TZNAME:CDT
DTSTART:20250309T080000
END:DAYLIGHT
BEGIN:STANDARD
TZOFFSETFROM:-0500
TZOFFSETTO:-0600
TZNAME:CST
DTSTART:20251102T070000
END:STANDARD
END:VTIMEZONE
BEGIN:VEVENT
DTSTART;TZID=America/Chicago:20240603T173000
DTEND;TZID=America/Chicago:20240812T203000
DTSTAMP:20260424T061024
CREATED:20240315T140046Z
LAST-MODIFIED:20240315T140714Z
UID:10000391-1717435800-1723494600@siouxfallsypn.com
SUMMARY:2024 YPN Golf League
DESCRIPTION:Let’s play golf! The 2024 YPN Golf League is the perfect opportunity to golf while enjoying a South Dakota summer and meeting new people. This year’s league will be held on Monday nights from June 3 – August 12 (no league on July 1) with tee times between 5:30-6:40 PM. Thirty-two players will be accepted into the league and each week you will have the opportunity to golf with three different YPN members. Courses will rotate from week to week. The play will be a 4-person scramble. \nLeague Schedule: \nWeek 1: 6/3 Bakker Crossing \nWeek 2: 6/10 Elmwood (Golf Bingo) \nWeek 3: 6/17 Brandon  \nWeek 4: 6/24 Prairie Green (4th of July attire) \nSkip July 4th Week \nWeek 5: 7/8 Willow Run  \nWeek 6: 7/15 Bakker Crossing (miss matched) \nWeek 7: 7/22 Elmwood  \nWeek 8: 7/29 Brandon (Hawaiian) \nWeek 9: 8/5 Willow Run  \nWeek 10: 8/12 Prairie Green  \n*Proof of GreatLife or City membership is required based on your registration selection below. \n** You are required to fill your spot with a fellow YPN member if you are unable to participate on a league night.** \nYou will need to click “Login” on the top right to register for the event. Click “Forgot Password” to set up a password (make sure you use the email address associated with the Chamber). After that you should then be able to register. \n 
URL:https://siouxfallsypn.com/event/2024-ypn-golf-league/
CATEGORIES:YPN Golf League
END:VEVENT
BEGIN:VEVENT
DTSTART;TZID=America/Chicago:20240709T073000
DTEND;TZID=America/Chicago:20240709T090000
DTSTAMP:20260424T061024
CREATED:20240509T170429Z
LAST-MODIFIED:20240509T170429Z
UID:10000418-1720510200-1720515600@siouxfallsypn.com
SUMMARY:Morning Buzz
DESCRIPTION:Join other YPN members for networking while getting your morning (coffee) buzz. Morning-minded young professionals are invited to come to enjoy coffee and conversation with other YPN members.
URL:https://siouxfallsypn.com/event/morning-buzz-22/
LOCATION:Fernson Downtown\, 332 S. Phillips Ave.\, Sioux Falls\, 57104
CATEGORIES:Morning Buzz,Networking
END:VEVENT
BEGIN:VEVENT
DTSTART;TZID=America/Chicago:20240711T173000
DTEND;TZID=America/Chicago:20240711T210000
DTSTAMP:20260424T061024
CREATED:20240503T130043Z
LAST-MODIFIED:20240319T203325Z
UID:10000398-1720719000-1720731600@siouxfallsypn.com
SUMMARY:YPN Night at the Levitt
DESCRIPTION:Come and join us for an evening of fun and entertainment at the Levitt! Experience the vibrant energy of live music with the Gilda House\, for FREE. Enjoy refreshing drinks and engage in enriching conversations amidst the lively atmosphere. Keep an eye out for the YPN table\, where we’ll be gathering. Don’t miss out – we look forward to seeing you there!
URL:https://siouxfallsypn.com/event/ypn-night-at-the-levitt/
LOCATION:Levitt at the Falls\, 504 N Phillips Ave\, Sioux Falls\, SD\, 57104\, United States
CATEGORIES:Networking,Off the Clock
END:VEVENT
END:VCALENDAR