BEGIN:VCALENDAR
VERSION:2.0
PRODID:-//Sioux Falls Young Professionals Network - ECPv6.15.18//NONSGML v1.0//EN
CALSCALE:GREGORIAN
METHOD:PUBLISH
X-ORIGINAL-URL:https://siouxfallsypn.com
X-WR-CALDESC:Events for Sioux Falls Young Professionals Network
REFRESH-INTERVAL;VALUE=DURATION:PT1H
X-Robots-Tag:noindex
X-PUBLISHED-TTL:PT1H
BEGIN:VTIMEZONE
TZID:America/Chicago
BEGIN:DAYLIGHT
TZOFFSETFROM:-0600
TZOFFSETTO:-0500
TZNAME:CDT
DTSTART:20210314T080000
END:DAYLIGHT
BEGIN:STANDARD
TZOFFSETFROM:-0500
TZOFFSETTO:-0600
TZNAME:CST
DTSTART:20211107T070000
END:STANDARD
BEGIN:DAYLIGHT
TZOFFSETFROM:-0600
TZOFFSETTO:-0500
TZNAME:CDT
DTSTART:20220313T080000
END:DAYLIGHT
BEGIN:STANDARD
TZOFFSETFROM:-0500
TZOFFSETTO:-0600
TZNAME:CST
DTSTART:20221106T070000
END:STANDARD
BEGIN:DAYLIGHT
TZOFFSETFROM:-0600
TZOFFSETTO:-0500
TZNAME:CDT
DTSTART:20230312T080000
END:DAYLIGHT
BEGIN:STANDARD
TZOFFSETFROM:-0500
TZOFFSETTO:-0600
TZNAME:CST
DTSTART:20231105T070000
END:STANDARD
BEGIN:DAYLIGHT
TZOFFSETFROM:-0600
TZOFFSETTO:-0500
TZNAME:CDT
DTSTART:20240310T080000
END:DAYLIGHT
BEGIN:STANDARD
TZOFFSETFROM:-0500
TZOFFSETTO:-0600
TZNAME:CST
DTSTART:20241103T070000
END:STANDARD
BEGIN:DAYLIGHT
TZOFFSETFROM:-0600
TZOFFSETTO:-0500
TZNAME:CDT
DTSTART:20250309T080000
END:DAYLIGHT
BEGIN:STANDARD
TZOFFSETFROM:-0500
TZOFFSETTO:-0600
TZNAME:CST
DTSTART:20251102T070000
END:STANDARD
BEGIN:DAYLIGHT
TZOFFSETFROM:-0600
TZOFFSETTO:-0500
TZNAME:CDT
DTSTART:20260308T080000
END:DAYLIGHT
BEGIN:STANDARD
TZOFFSETFROM:-0500
TZOFFSETTO:-0600
TZNAME:CST
DTSTART:20261101T070000
END:STANDARD
END:VTIMEZONE
BEGIN:VEVENT
DTSTART;TZID=America/Chicago:20250813T120000
DTEND;TZID=America/Chicago:20250813T130000
DTSTAMP:20260421T093352
CREATED:20250618T161204Z
LAST-MODIFIED:20250618T161206Z
UID:10000542-1755086400-1755090000@siouxfallsypn.com
SUMMARY:Power Lunch - Bagel Boy
DESCRIPTION:Research says one of the best ways to improve your productivity at work is to take a lunch break. So check out of the office (or your home office) for the noon hour and enjoy lunch with us! We do ask that you RSVP in advance so we can monitor space requirements. \nYou will need to click “Login” on the top right to register for the event. Click “Forgot Password” to set up a password (make sure you use the email address associated with the Chamber). After that you should then be able to register. \nWe are committed to providing a welcoming and accessible experience for all event attendees. If you require any accommodations\, please reach out to Jaci Pieters at jpieters@siouxfalls.com. We will make every effort to meet your needs.
URL:https://siouxfallsypn.com/event/power-lunch-bagel-boy/
LOCATION:Bagel Boy\, 2505 S. Minnesota Ave.\, Sioux Falls\, 57105
END:VEVENT
BEGIN:VEVENT
DTSTART;TZID=America/Chicago:20240801T073000
DTEND;TZID=America/Chicago:20240801T090000
DTSTAMP:20260421T093352
CREATED:20240711T135054Z
LAST-MODIFIED:20240711T135134Z
UID:10000426-1722497400-1722502800@siouxfallsypn.com
SUMMARY:Morning Buzz
DESCRIPTION:Join other YPN members for networking while getting your morning (coffee) buzz. Morning-minded young professionals are invited to come to enjoy coffee and conversation with other YPN members. August’s Morning Buzz will take place at Bagel Boy off of Minnesota Avenue.
URL:https://siouxfallsypn.com/event/morning-buzz-24/
LOCATION:Bagel Boy\, 2505 S. Minnesota Ave.\, Sioux Falls\, 57105
CATEGORIES:Morning Buzz,Networking
END:VEVENT
BEGIN:VEVENT
DTSTART;TZID=America/Chicago:20230719T120000
DTEND;TZID=America/Chicago:20230719T130000
DTSTAMP:20260421T093352
CREATED:20230616T153555Z
LAST-MODIFIED:20230616T153555Z
UID:10000337-1689768000-1689771600@siouxfallsypn.com
SUMMARY:Power Lunch
DESCRIPTION:Research says one of the best ways to improve your productivity at work is to take a lunch break. So check out of the office (or your home office) for the noon hour and enjoy lunch with us! We do ask that you RSVP in advance so we can monitor space requirements. \nYou will need to click “Login” on the top right to register for the event. Click “Forgot Password” to set up a password (make sure you use the email address associated with the Chamber). After that you should then be able to register.
URL:https://siouxfallsypn.com/event/power-lunch-2/
LOCATION:Bagel Boy\, 2505 S. Minnesota Ave.\, Sioux Falls\, 57105
END:VEVENT
BEGIN:VEVENT
DTSTART;TZID=America/Chicago:20220602T073000
DTEND;TZID=America/Chicago:20220602T090000
DTSTAMP:20260421T093352
CREATED:20220513T155911Z
LAST-MODIFIED:20220513T155922Z
UID:10000182-1654155000-1654160400@siouxfallsypn.com
SUMMARY:Morning Buzz
DESCRIPTION:Join other YPN members at Bagel Boy for networking while getting your morning buzz (coffee). Morning-minded young professionals are invited to come enjoy coffee and conversation with other YPN members at our June Morning Buzz.
URL:https://siouxfallsypn.com/event/1763/
LOCATION:Bagel Boy\, 2505 S. Minnesota Ave.\, Sioux Falls\, 57105
END:VEVENT
END:VCALENDAR