BEGIN:VCALENDAR
VERSION:2.0
PRODID:-//Sioux Falls Young Professionals Network - ECPv6.15.18//NONSGML v1.0//EN
CALSCALE:GREGORIAN
METHOD:PUBLISH
X-ORIGINAL-URL:https://siouxfallsypn.com
X-WR-CALDESC:Events for Sioux Falls Young Professionals Network
REFRESH-INTERVAL;VALUE=DURATION:PT1H
X-Robots-Tag:noindex
X-PUBLISHED-TTL:PT1H
BEGIN:VTIMEZONE
TZID:America/Chicago
BEGIN:DAYLIGHT
TZOFFSETFROM:-0600
TZOFFSETTO:-0500
TZNAME:CDT
DTSTART:20210314T080000
END:DAYLIGHT
BEGIN:STANDARD
TZOFFSETFROM:-0500
TZOFFSETTO:-0600
TZNAME:CST
DTSTART:20211107T070000
END:STANDARD
BEGIN:DAYLIGHT
TZOFFSETFROM:-0600
TZOFFSETTO:-0500
TZNAME:CDT
DTSTART:20220313T080000
END:DAYLIGHT
BEGIN:STANDARD
TZOFFSETFROM:-0500
TZOFFSETTO:-0600
TZNAME:CST
DTSTART:20221106T070000
END:STANDARD
BEGIN:DAYLIGHT
TZOFFSETFROM:-0600
TZOFFSETTO:-0500
TZNAME:CDT
DTSTART:20230312T080000
END:DAYLIGHT
BEGIN:STANDARD
TZOFFSETFROM:-0500
TZOFFSETTO:-0600
TZNAME:CST
DTSTART:20231105T070000
END:STANDARD
END:VTIMEZONE
BEGIN:VEVENT
DTSTART;TZID=America/Chicago:20220830T110000
DTEND;TZID=America/Chicago:20220830T130000
DTSTAMP:20260422T025014
CREATED:20220727T192356Z
LAST-MODIFIED:20220729T191554Z
UID:10000283-1661857200-1661864400@siouxfallsypn.com
SUMMARY:A YPN Sit Down with Representative Dusty Johnson
DESCRIPTION:A Sit Down is a unique opportunity for YPN members to have a question and answer session with Representative Dusty Johnson and is limited to the first 20 YPN members to RSVP. \nIn order to attend this event\, you must also register and attend Inside Washington with Representative Johnson\, held after this event. \nA Sit Down with Representative Johnson is open to YPN members only. \nCost =$35.00 \nYou will need to click “Login” on the top right to register for the event. Click “Forgot Password” to set up a password (make sure you use the email address associated with the Chamber). After that you should then be able to register.
URL:https://siouxfallsypn.com/event/ypn-sit-down-with-representative-dusty-johnson/
LOCATION:Best Western Plus Ramkota Hotel and Conference Center\, 3200 W. Maple St.\, Sioux Falls\, 57107
END:VEVENT
END:VCALENDAR