BEGIN:VCALENDAR
VERSION:2.0
PRODID:-//Sioux Falls Young Professionals Network - ECPv6.15.18//NONSGML v1.0//EN
CALSCALE:GREGORIAN
METHOD:PUBLISH
X-ORIGINAL-URL:https://siouxfallsypn.com
X-WR-CALDESC:Events for Sioux Falls Young Professionals Network
REFRESH-INTERVAL;VALUE=DURATION:PT1H
X-Robots-Tag:noindex
X-PUBLISHED-TTL:PT1H
BEGIN:VTIMEZONE
TZID:America/Chicago
BEGIN:DAYLIGHT
TZOFFSETFROM:-0600
TZOFFSETTO:-0500
TZNAME:CDT
DTSTART:20210314T080000
END:DAYLIGHT
BEGIN:STANDARD
TZOFFSETFROM:-0500
TZOFFSETTO:-0600
TZNAME:CST
DTSTART:20211107T070000
END:STANDARD
BEGIN:DAYLIGHT
TZOFFSETFROM:-0600
TZOFFSETTO:-0500
TZNAME:CDT
DTSTART:20220313T080000
END:DAYLIGHT
BEGIN:STANDARD
TZOFFSETFROM:-0500
TZOFFSETTO:-0600
TZNAME:CST
DTSTART:20221106T070000
END:STANDARD
BEGIN:DAYLIGHT
TZOFFSETFROM:-0600
TZOFFSETTO:-0500
TZNAME:CDT
DTSTART:20230312T080000
END:DAYLIGHT
BEGIN:STANDARD
TZOFFSETFROM:-0500
TZOFFSETTO:-0600
TZNAME:CST
DTSTART:20231105T070000
END:STANDARD
END:VTIMEZONE
BEGIN:VEVENT
DTSTART;TZID=America/Chicago:20220824T080000
DTEND;TZID=America/Chicago:20220824T170000
DTSTAMP:20260422T041237
CREATED:20220607T165548Z
LAST-MODIFIED:20220727T200113Z
UID:10000183-1661328000-1661360400@siouxfallsypn.com
SUMMARY:YPN Golf Tournament - Registration FULL!
DESCRIPTION:Join fellow young professionals for an afternoon of fun\, sun and 18 holes of golf at Brandon Golf Course for the 13th Annual YPN Golf Tournament! No need to be a pro – all young professionals are welcome to play and spend the afternoon networking with one another. The best part? If you’re feeling lucky and hit a hole-in-one\, you could win $10\,000 thanks to our Hole-in-One sponsor\, MickinneyOlson! Prizes will be awarded at the Post-Party\, sponsored by ISG\, immediately following the Golf Tournament. \nForm your own team of four or we can do it for you. There must be at least one YPN Member on every team. If you’re signing up as a team\, only one team member needs to register. \nRegistration:\n$80 per individual\n$300 per team \nEntry fee includes:\n18 holes of golf plus cart\nLunch\nAppetizers after tournament\nChance to win great prizes! \nWe’ll be selling mulligans again this year! We would appreciate if you purchased mulligans in advance online.\n$20 for 2 mulligans\n$60 for entire team (8 total mulligans) \nRegistration will begin at 8 AM with a shotgun start at 9 AM. \nInterested in sponsoring this event? Email cboerger@siouxfalls.com.
URL:https://siouxfallsypn.com/event/ypn-golf-tournament/
LOCATION:Brandon Golf Course\, 2100 E Aspen Blvd\, Brandon\, SD\, 57005\, United States
END:VEVENT
END:VCALENDAR