BEGIN:VCALENDAR
VERSION:2.0
PRODID:-//Sioux Falls Young Professionals Network - ECPv6.15.18//NONSGML v1.0//EN
CALSCALE:GREGORIAN
METHOD:PUBLISH
X-ORIGINAL-URL:https://siouxfallsypn.com
X-WR-CALDESC:Events for Sioux Falls Young Professionals Network
REFRESH-INTERVAL;VALUE=DURATION:PT1H
X-Robots-Tag:noindex
X-PUBLISHED-TTL:PT1H
BEGIN:VTIMEZONE
TZID:America/Chicago
BEGIN:DAYLIGHT
TZOFFSETFROM:-0600
TZOFFSETTO:-0500
TZNAME:CDT
DTSTART:20250309T080000
END:DAYLIGHT
BEGIN:STANDARD
TZOFFSETFROM:-0500
TZOFFSETTO:-0600
TZNAME:CST
DTSTART:20251102T070000
END:STANDARD
BEGIN:DAYLIGHT
TZOFFSETFROM:-0600
TZOFFSETTO:-0500
TZNAME:CDT
DTSTART:20260308T080000
END:DAYLIGHT
BEGIN:STANDARD
TZOFFSETFROM:-0500
TZOFFSETTO:-0600
TZNAME:CST
DTSTART:20261101T070000
END:STANDARD
BEGIN:DAYLIGHT
TZOFFSETFROM:-0600
TZOFFSETTO:-0500
TZNAME:CDT
DTSTART:20270314T080000
END:DAYLIGHT
BEGIN:STANDARD
TZOFFSETFROM:-0500
TZOFFSETTO:-0600
TZNAME:CST
DTSTART:20271107T070000
END:STANDARD
END:VTIMEZONE
BEGIN:VEVENT
DTSTART;TZID=America/Chicago:20260402T073000
DTEND;TZID=America/Chicago:20260402T090000
DTSTAMP:20260421T074849
CREATED:20260211T205125Z
LAST-MODIFIED:20260312T205451Z
UID:10000602-1775115000-1775120400@siouxfallsypn.com
SUMMARY:Morning Buzz | University of Sioux Falls
DESCRIPTION:Join other YPN members for networking while getting your morning (coffee) buzz. Morning-minded young professionals are invited to come to enjoy coffee and conversation with other YPN members. This Morning Buzz is being hosted by the University of Sioux Falls \nWe are committed to providing a welcoming and accessible experience for all event attendees. If you require any accommodations\, please reach out to Jaci Pieters at jpieters@siouxfalls.com. We will make every effort to meet your needs.
URL:https://siouxfallsypn.com/event/morning-buzz-university-of-sioux-falls-2/
LOCATION:Cleveland Professional Development Center\, 1010 W 26th Street\, Sioux Falls\, South Dakota\, 57105
CATEGORIES:Morning Buzz,Networking
END:VEVENT
END:VCALENDAR