BEGIN:VCALENDAR
VERSION:2.0
PRODID:-//Sioux Falls Young Professionals Network - ECPv6.15.18//NONSGML v1.0//EN
CALSCALE:GREGORIAN
METHOD:PUBLISH
X-ORIGINAL-URL:https://siouxfallsypn.com
X-WR-CALDESC:Events for Sioux Falls Young Professionals Network
REFRESH-INTERVAL;VALUE=DURATION:PT1H
X-Robots-Tag:noindex
X-PUBLISHED-TTL:PT1H
BEGIN:VTIMEZONE
TZID:America/Chicago
BEGIN:DAYLIGHT
TZOFFSETFROM:-0600
TZOFFSETTO:-0500
TZNAME:CDT
DTSTART:20210314T080000
END:DAYLIGHT
BEGIN:STANDARD
TZOFFSETFROM:-0500
TZOFFSETTO:-0600
TZNAME:CST
DTSTART:20211107T070000
END:STANDARD
BEGIN:DAYLIGHT
TZOFFSETFROM:-0600
TZOFFSETTO:-0500
TZNAME:CDT
DTSTART:20220313T080000
END:DAYLIGHT
BEGIN:STANDARD
TZOFFSETFROM:-0500
TZOFFSETTO:-0600
TZNAME:CST
DTSTART:20221106T070000
END:STANDARD
BEGIN:DAYLIGHT
TZOFFSETFROM:-0600
TZOFFSETTO:-0500
TZNAME:CDT
DTSTART:20230312T080000
END:DAYLIGHT
BEGIN:STANDARD
TZOFFSETFROM:-0500
TZOFFSETTO:-0600
TZNAME:CST
DTSTART:20231105T070000
END:STANDARD
BEGIN:DAYLIGHT
TZOFFSETFROM:-0600
TZOFFSETTO:-0500
TZNAME:CDT
DTSTART:20240310T080000
END:DAYLIGHT
BEGIN:STANDARD
TZOFFSETFROM:-0500
TZOFFSETTO:-0600
TZNAME:CST
DTSTART:20241103T070000
END:STANDARD
BEGIN:DAYLIGHT
TZOFFSETFROM:-0600
TZOFFSETTO:-0500
TZNAME:CDT
DTSTART:20250309T080000
END:DAYLIGHT
BEGIN:STANDARD
TZOFFSETFROM:-0500
TZOFFSETTO:-0600
TZNAME:CST
DTSTART:20251102T070000
END:STANDARD
END:VTIMEZONE
BEGIN:VEVENT
DTSTART;TZID=America/Chicago:20240429T120000
DTEND;TZID=America/Chicago:20240429T130000
DTSTAMP:20260424T043646
CREATED:20240312T164745Z
LAST-MODIFIED:20240312T164810Z
UID:10000386-1714392000-1714395600@siouxfallsypn.com
SUMMARY:Our Sioux Falls | SD CEO East
DESCRIPTION:Discover the story of SD CEO East—delve into its history\, explore the range of services offered\, and uncover exciting opportunities arising. Join us to learn and engage! \nRegistration is required. Limited to the first 25 to register. Please add it to your calendar if you do register. \nYou will need to click “Login” on the top right to register for the event. Click “Forgot Password” to set up a password (make sure you use the email address associated with the Chamber). After that you should then be able to register.
URL:https://siouxfallsypn.com/event/our-sioux-falls-sd-ceo-east/
LOCATION:Greater Sioux Falls Chamber of Commerce\, 200 N. Phillips Ave. Suite 200\, Sioux Falls\, SD\, 57104\, United States
CATEGORIES:Civic Engagement,Our Sioux Falls
END:VEVENT
BEGIN:VEVENT
DTSTART;TZID=America/Chicago:20240419T120000
DTEND;TZID=America/Chicago:20240419T130000
DTSTAMP:20260424T043646
CREATED:20240103T173847Z
LAST-MODIFIED:20240319T191054Z
UID:10000375-1713528000-1713531600@siouxfallsypn.com
SUMMARY:CANCELED | A Seat at the Table with Vance Thompson
DESCRIPTION:Join us for a seat at the table with Vance Thompson director of refractive surgery at Vance Thompson Vision\, \nA Seat at the Table is reserved for YPN Members only. You must register in advance. \nYou will need to click “Login” on the top right to register for the event. Click “Forgot Password” to set up a password (make sure you use the email address associated with the Chamber). After that you should then be able to register.
URL:https://siouxfallsypn.com/event/a-seat-at-the-table-with-vance-thompson/
LOCATION:Greater Sioux Falls Chamber of Commerce\, 200 N. Phillips Ave. Suite 200\, Sioux Falls\, SD\, 57104\, United States
CATEGORIES:A Seat At The Table,Professional Development
END:VEVENT
BEGIN:VEVENT
DTSTART;TZID=America/Chicago:20240410T160000
DTEND;TZID=America/Chicago:20240410T170000
DTSTAMP:20260424T043646
CREATED:20240408T140137Z
LAST-MODIFIED:20240408T140137Z
UID:10000402-1712764800-1712768400@siouxfallsypn.com
SUMMARY:Social Action Team Meeting
DESCRIPTION:Party planners and extroverts\, this team is for you! The Social Action Team plans all of the YPN networking and fun social events such as Off the Clock\, Morning Buzz\, Power Lunch\, and many others.
URL:https://siouxfallsypn.com/event/social-action-team-meeting-11/
LOCATION:Greater Sioux Falls Chamber of Commerce\, 200 N. Phillips Ave. Suite 200\, Sioux Falls\, SD\, 57104\, United States
END:VEVENT
BEGIN:VEVENT
DTSTART;TZID=America/Chicago:20240313T160000
DTEND;TZID=America/Chicago:20240313T170000
DTSTAMP:20260424T043646
CREATED:20240311T185308Z
LAST-MODIFIED:20240311T185308Z
UID:10000384-1710345600-1710349200@siouxfallsypn.com
SUMMARY:Social Action Team Meeting
DESCRIPTION:Party planners and extroverts\, this team is for you! The Social Action Team plans all of the YPN networking and fun social events such as Off the Clock\, Morning Buzz\, Power Lunch\, and many others.
URL:https://siouxfallsypn.com/event/social-action-team-meeting-10/
LOCATION:Greater Sioux Falls Chamber of Commerce\, 200 N. Phillips Ave. Suite 200\, Sioux Falls\, SD\, 57104\, United States
END:VEVENT
BEGIN:VEVENT
DTSTART;TZID=America/Chicago:20240304T120000
DTEND;TZID=America/Chicago:20240304T130000
DTSTAMP:20260424T043646
CREATED:20240102T212423Z
LAST-MODIFIED:20240102T221022Z
UID:10000370-1709553600-1709557200@siouxfallsypn.com
SUMMARY:A Seat at the Table with Mark Nelsen
DESCRIPTION:Join us for a seat at the table with Mark Nelsen\, owner & CEO of Maximum Promotions. \nA Seat at the Table is reserved for YPN Members only. You must register in advance. \nAfter clicking on “Register Now\,” you will need to click “Login” on the top right to register for the event. Click “Forgot Password” to set up a password (make sure you use the email address associated with the Chamber). After that you should then be able to register.
URL:https://siouxfallsypn.com/event/a-seat-at-the-table-with-mark-nelsen/
LOCATION:Greater Sioux Falls Chamber of Commerce\, 200 N. Phillips Ave. Suite 200\, Sioux Falls\, SD\, 57104\, United States
CATEGORIES:A Seat At The Table,Professional Development
END:VEVENT
BEGIN:VEVENT
DTSTART;TZID=America/Chicago:20240222T120000
DTEND;TZID=America/Chicago:20240222T130000
DTSTAMP:20260424T043646
CREATED:20240102T212242Z
LAST-MODIFIED:20240102T213536Z
UID:10000369-1708603200-1708606800@siouxfallsypn.com
SUMMARY:A Seat at the Table with Mayor Paul TenHaken
DESCRIPTION:Join us for a seat at the table with the Mayor of Sioux Falls\, Paul TenHaken \nA Seat at the Table is reserved for YPN Members only. You must register in advance. \nAfter clicking on “Register Now\,” you will need to click “Login” on the top right to register for the event. Click “Forgot Password” to set up a password (make sure you use the email address associated with the Chamber). After that you should then be able to register.
URL:https://siouxfallsypn.com/event/a-seat-at-the-table-with-mayor-paul-tenhaken/
LOCATION:Greater Sioux Falls Chamber of Commerce\, 200 N. Phillips Ave. Suite 200\, Sioux Falls\, SD\, 57104\, United States
CATEGORIES:A Seat At The Table,Professional Development
END:VEVENT
BEGIN:VEVENT
DTSTART;TZID=America/Chicago:20240214T120000
DTEND;TZID=America/Chicago:20240214T130000
DTSTAMP:20260424T043646
CREATED:20240102T211735Z
LAST-MODIFIED:20240102T213708Z
UID:10000367-1707912000-1707915600@siouxfallsypn.com
SUMMARY:A Seat at the Table with Jeff Scherschligt
DESCRIPTION:Join us for a seat at the table with local businessman and developer\, Jeff Scherschligt of Pendar Properties. \nA Seat at the Table is reserved for YPN Members only. You must register in advance. \nAfter clicking on “Register Now\,” you will need to click “Login” on the top right to register for the event. Click “Forgot Password” to set up a password (make sure you use the email address associated with the Chamber). After that you should then be able to register.
URL:https://siouxfallsypn.com/event/a-seat-at-the-table-with-jeff-scherschligt/
LOCATION:Greater Sioux Falls Chamber of Commerce\, 200 N. Phillips Ave. Suite 200\, Sioux Falls\, SD\, 57104\, United States
CATEGORIES:A Seat At The Table,Professional Development
END:VEVENT
BEGIN:VEVENT
DTSTART;TZID=America/Chicago:20240124T120000
DTEND;TZID=America/Chicago:20240124T130000
DTSTAMP:20260424T043646
CREATED:20240103T172220Z
LAST-MODIFIED:20240103T172220Z
UID:10000373-1706097600-1706101200@siouxfallsypn.com
SUMMARY:Personal & Professional Development/Civic Engagement Action Team
DESCRIPTION:This action team plans tours of new projects in town\, lines up phenomenal speakers and generally guides the educational elements of YPN while also looking for ways to educate YPN members about current issues in our community and encourage civic participation among young professionals. . If you enjoy brainstorming events that help young professionals develop both personally and professionally then this is the team for you!
URL:https://siouxfallsypn.com/event/personal-professional-development-civic-engagement-action-team-3/
LOCATION:Greater Sioux Falls Chamber of Commerce\, 200 N. Phillips Ave. Suite 200\, Sioux Falls\, SD\, 57104\, United States
END:VEVENT
BEGIN:VEVENT
DTSTART;TZID=America/Chicago:20240110T120000
DTEND;TZID=America/Chicago:20240110T130000
DTSTAMP:20260424T043646
CREATED:20240102T210223Z
LAST-MODIFIED:20240102T210223Z
UID:10000362-1704888000-1704891600@siouxfallsypn.com
SUMMARY:A Seat at the Table with Scott Lawrence
DESCRIPTION:Join us for a seat at the table with CEO/Partner of Lawrence & Schiller and the current Chamber of Commerce Board of Directors Chair\, Scott Lawrence. \nLunch will be provided. Advanced registration is required. \nYou will need to click “Login” on the top right to register for the event. Click “Forgot Password” to set up a password (make sure you use the email address associated with the Chamber). After that you should then be able to register.
URL:https://siouxfallsypn.com/event/a-seat-at-the-table-with-scott-lawrence/
LOCATION:Greater Sioux Falls Chamber of Commerce\, 200 N. Phillips Ave. Suite 200\, Sioux Falls\, SD\, 57104\, United States
CATEGORIES:A Seat At The Table,Professional Development
END:VEVENT
BEGIN:VEVENT
DTSTART;TZID=America/Chicago:20231213T160000
DTEND;TZID=America/Chicago:20231213T170000
DTSTAMP:20260424T043646
CREATED:20231017T152828Z
LAST-MODIFIED:20231017T152828Z
UID:10000359-1702483200-1702486800@siouxfallsypn.com
SUMMARY:Social Action Team Meeting
DESCRIPTION:Party planners and extroverts\, this team is for you! The Social Action Team plans all of the YPN networking and fun social events such as Off the Clock\, Morning Buzz\, Power Lunch\, and many others.
URL:https://siouxfallsypn.com/event/social-action-team-meeting-9/
LOCATION:Greater Sioux Falls Chamber of Commerce\, 200 N. Phillips Ave. Suite 200\, Sioux Falls\, SD\, 57104\, United States
END:VEVENT
BEGIN:VEVENT
DTSTART;TZID=America/Chicago:20231129T120000
DTEND;TZID=America/Chicago:20231129T130000
DTSTAMP:20260424T043646
CREATED:20231017T153031Z
LAST-MODIFIED:20231017T153031Z
UID:10000360-1701259200-1701262800@siouxfallsypn.com
SUMMARY:Personal & Professional Development/Civic Engagement Action Team
DESCRIPTION:This action team plans tours of new projects in town\, lines up phenomenal speakers and generally guides the educational elements of YPN while also looking for ways to educate YPN members about current issues in our community and encourage civic participation among young professionals. . If you enjoy brainstorming events that help young professionals develop both personally and professionally then this is the team for you!
URL:https://siouxfallsypn.com/event/personal-professional-development-civic-engagement-action-team-2/
LOCATION:Greater Sioux Falls Chamber of Commerce\, 200 N. Phillips Ave. Suite 200\, Sioux Falls\, SD\, 57104\, United States
END:VEVENT
BEGIN:VEVENT
DTSTART;TZID=America/Chicago:20231116T120000
DTEND;TZID=America/Chicago:20231116T130000
DTSTAMP:20260424T043646
CREATED:20231005T211731Z
LAST-MODIFIED:20231005T211731Z
UID:10000270-1700136000-1700139600@siouxfallsypn.com
SUMMARY:Our Sioux Falls– Sioux Falls Area Community Foundation
DESCRIPTION:Learn more about the community where you live and work through programs that give details behind major infrastructure projects and issues impacting your quality of life.
URL:https://siouxfallsypn.com/event/our-sioux-falls-sioux-falls-area-community-foundation/
LOCATION:Greater Sioux Falls Chamber of Commerce\, 200 N. Phillips Ave. Suite 200\, Sioux Falls\, SD\, 57104\, United States
END:VEVENT
BEGIN:VEVENT
DTSTART;TZID=America/Chicago:20231108T160000
DTEND;TZID=America/Chicago:20231108T170000
DTSTAMP:20260424T043646
CREATED:20231017T152739Z
LAST-MODIFIED:20231017T152739Z
UID:10000277-1699459200-1699462800@siouxfallsypn.com
SUMMARY:Social Action Team Meeting
DESCRIPTION:Party planners and extroverts\, this team is for you! The Social Action Team plans all of the YPN networking and fun social events such as Off the Clock\, Morning Buzz\, Power Lunch\, and many others.
URL:https://siouxfallsypn.com/event/social-action-team-meeting-8/
LOCATION:Greater Sioux Falls Chamber of Commerce\, 200 N. Phillips Ave. Suite 200\, Sioux Falls\, SD\, 57104\, United States
END:VEVENT
BEGIN:VEVENT
DTSTART;TZID=America/Chicago:20231010T120000
DTEND;TZID=America/Chicago:20231010T130000
DTSTAMP:20260424T043646
CREATED:20230911T184546Z
LAST-MODIFIED:20230911T184848Z
UID:10000358-1696939200-1696942800@siouxfallsypn.com
SUMMARY:A Seat at the Table with Dr. Ronald Place
DESCRIPTION:Get to know Ronald Place\, MD\, Avera McKennan Regional President and CEO\, at this Seat at the Table event. \nLunch will be provided. Advanced registration is required. \nYou will need to click “Login” on the top right to register for the event. Click “Forgot Password” to set up a password (make sure you use the email address associated with the Chamber). After that you should then be able to register.
URL:https://siouxfallsypn.com/event/a-seat-at-the-table-with-dr-ronald-place/
LOCATION:Greater Sioux Falls Chamber of Commerce\, 200 N. Phillips Ave. Suite 200\, Sioux Falls\, SD\, 57104\, United States
END:VEVENT
BEGIN:VEVENT
DTSTART;TZID=America/Chicago:20230927T120000
DTEND;TZID=America/Chicago:20230927T130000
DTSTAMP:20260424T043646
CREATED:20230808T200354Z
LAST-MODIFIED:20230808T200354Z
UID:10000353-1695816000-1695819600@siouxfallsypn.com
SUMMARY:Personal & Professional Development/Civic Engagement Action Team
DESCRIPTION:This action team plans tours of new projects in town\, lines up phenomenal speakers and generally guides the educational elements of YPN while also looking for ways to educate YPN members about current issues in our community and encourage civic participation among young professionals. . If you enjoy brainstorming events that help young professionals develop both personally and professionally then this is the team for you!
URL:https://siouxfallsypn.com/event/personal-professional-development-civic-engagement-action-team/
LOCATION:Greater Sioux Falls Chamber of Commerce\, 200 N. Phillips Ave. Suite 200\, Sioux Falls\, SD\, 57104\, United States
END:VEVENT
BEGIN:VEVENT
DTSTART;TZID=America/Chicago:20230808T120000
DTEND;TZID=America/Chicago:20230808T130000
DTSTAMP:20260424T043646
CREATED:20230616T161933Z
LAST-MODIFIED:20230616T161933Z
UID:10000342-1691496000-1691499600@siouxfallsypn.com
SUMMARY:A Seat at the table with Karla Santi
DESCRIPTION:Get to know Karla Santi\, CEO and founder of Blend Interactive\, at this Seat at the Table event. \n  \nAdvanced registration is required.
URL:https://siouxfallsypn.com/event/a-seat-at-the-table-with-karla-santi/
LOCATION:Greater Sioux Falls Chamber of Commerce\, 200 N. Phillips Ave. Suite 200\, Sioux Falls\, SD\, 57104\, United States
END:VEVENT
BEGIN:VEVENT
DTSTART;TZID=America/Chicago:20230726T120000
DTEND;TZID=America/Chicago:20230726T130000
DTSTAMP:20260424T043646
CREATED:20230616T162147Z
LAST-MODIFIED:20230616T162147Z
UID:10000343-1690372800-1690376400@siouxfallsypn.com
SUMMARY:Personal & Professional Development Action Team/ Civic Engagement Meeting
DESCRIPTION:This action team plans tours of new projects in town\, lines up phenomenal speakers and generally guides the educational elements of YPN while also looking for ways to educate YPN members about current issues in our community and encourage civic participation among young professionals. . If you enjoy brainstorming events that help young professionals develop both personally and professionally then this is the team for you!
URL:https://siouxfallsypn.com/event/personal-professional-development-action-team-civic-engagement-meeting/
LOCATION:Greater Sioux Falls Chamber of Commerce\, 200 N. Phillips Ave. Suite 200\, Sioux Falls\, SD\, 57104\, United States
END:VEVENT
BEGIN:VEVENT
DTSTART;TZID=America/Chicago:20230622T120000
DTEND;TZID=America/Chicago:20230622T130000
DTSTAMP:20260424T043646
CREATED:20230519T194113Z
LAST-MODIFIED:20230519T194113Z
UID:10000334-1687435200-1687438800@siouxfallsypn.com
SUMMARY:YPN New Member Lunch
DESCRIPTION:Are you new to YPN? Looking for your first event to attend? Join us for our New Member Lunch at the Chamber! This is a great opportunity to meet other\nnew members and ask questions of experienced members. Lunch will be provided. Space is limited to the first 20 people to RSVP! \nCOST: $15.00\, registration required.
URL:https://siouxfallsypn.com/event/ypn-new-member-lunch-5/
LOCATION:Greater Sioux Falls Chamber of Commerce\, 200 N. Phillips Ave. Suite 200\, Sioux Falls\, SD\, 57104\, United States
END:VEVENT
BEGIN:VEVENT
DTSTART;TZID=America/Chicago:20230524T120000
DTEND;TZID=America/Chicago:20230524T130000
DTSTAMP:20260424T043646
CREATED:20230515T150543Z
LAST-MODIFIED:20230515T150543Z
UID:10000332-1684929600-1684933200@siouxfallsypn.com
SUMMARY:YPN Personal & Professional Development/Civic Engagement Action Team Meeting
DESCRIPTION:This action team plans tours of new projects in town\, lines up phenomenal speakers and generally guides the educational elements of YPN while also looking for ways to educate YPN members about current issues in our community and encourage civic participation among young professionals. . If you enjoy brainstorming events that help young professionals develop both personally and professionally then this is the team for you!
URL:https://siouxfallsypn.com/event/ypn-personal-professional-development-civic-engagement-action-team-meeting-4/
LOCATION:Greater Sioux Falls Chamber of Commerce\, 200 N. Phillips Ave. Suite 200\, Sioux Falls\, SD\, 57104\, United States
END:VEVENT
BEGIN:VEVENT
DTSTART;TZID=America/Chicago:20230322T120000
DTEND;TZID=America/Chicago:20230322T130000
DTSTAMP:20260424T043646
CREATED:20230210T170447Z
LAST-MODIFIED:20230210T170447Z
UID:10000215-1679486400-1679490000@siouxfallsypn.com
SUMMARY:YPN Personal & Professional Development/Civic Engagement Action Team Meeting
DESCRIPTION:This action team plans tours of new projects in town\, lines up phenomenal speakers and generally guides the educational elements of YPN while also looking for ways to educate YPN members about current issues in our community and encourage civic participation among young professionals. . If you enjoy brainstorming events that help young professionals develop both personally and professionally then this is the team for you!
URL:https://siouxfallsypn.com/event/ypn-personal-professional-development-civic-engagement-action-team-meeting-3/
LOCATION:Greater Sioux Falls Chamber of Commerce\, 200 N. Phillips Ave. Suite 200\, Sioux Falls\, SD\, 57104\, United States
END:VEVENT
BEGIN:VEVENT
DTSTART;TZID=America/Chicago:20230307T120000
DTEND;TZID=America/Chicago:20230307T130000
DTSTAMP:20260424T043646
CREATED:20230210T194234Z
LAST-MODIFIED:20230210T194234Z
UID:10000216-1678190400-1678194000@siouxfallsypn.com
SUMMARY:YPN A Seat at the Table with Jon Thum
DESCRIPTION:Get to know the Chief of the Sioux Falls Police Department\, Jon Thum at this Seat at the Table event. \nAdvanced registration is required.
URL:https://siouxfallsypn.com/event/ypn-a-seat-at-the-table-with-jon-thum/
LOCATION:Greater Sioux Falls Chamber of Commerce\, 200 N. Phillips Ave. Suite 200\, Sioux Falls\, SD\, 57104\, United States
END:VEVENT
BEGIN:VEVENT
DTSTART;TZID=America/Chicago:20230208T120000
DTEND;TZID=America/Chicago:20230208T130000
DTSTAMP:20260424T043646
CREATED:20230124T151418Z
LAST-MODIFIED:20230124T151418Z
UID:10000308-1675857600-1675861200@siouxfallsypn.com
SUMMARY:YPN New Member Lunch
DESCRIPTION:Are you new to YPN? Looking for your first event to attend? Join us for our New Member Lunch at the Chamber! This is a great opportunity to meet other new members and ask questions to experienced members. Lunch will be provided for $15. Space is limited to the first 20 people to RSVP!
URL:https://siouxfallsypn.com/event/ypn-new-member-lunch-4/
LOCATION:Greater Sioux Falls Chamber of Commerce\, 200 N. Phillips Ave. Suite 200\, Sioux Falls\, SD\, 57104\, United States
END:VEVENT
BEGIN:VEVENT
DTSTART;TZID=America/Chicago:20230125T120000
DTEND;TZID=America/Chicago:20230125T130000
DTSTAMP:20260424T043646
CREATED:20230116T155247Z
LAST-MODIFIED:20230116T155247Z
UID:10000306-1674648000-1674651600@siouxfallsypn.com
SUMMARY:YPN Personal & Professional Development/Civic Engagement Action Team Meeting
DESCRIPTION:This action team plans tours of new projects in town\, lines up phenomenal speakers and generally guides the educational elements of YPN while also looking for ways to educate YPN members about current issues in our community and encourage civic participation among young professionals. . If you enjoy brainstorming events that help young professionals develop both personally and professionally then this is the team for you!
URL:https://siouxfallsypn.com/event/ypn-personal-professional-development-civic-engagement-action-team-meeting-2/
LOCATION:Greater Sioux Falls Chamber of Commerce\, 200 N. Phillips Ave. Suite 200\, Sioux Falls\, SD\, 57104\, United States
END:VEVENT
BEGIN:VEVENT
DTSTART;TZID=America/Chicago:20230111T120000
DTEND;TZID=America/Chicago:20230111T130000
DTSTAMP:20260424T043646
CREATED:20221118T175509Z
LAST-MODIFIED:20221118T175549Z
UID:10000206-1673438400-1673442000@siouxfallsypn.com
SUMMARY:YPN A Seat at the Table with Paul Hanson
DESCRIPTION:Get to know Paul Hanson\, President & CEO\, Sanford Health Sioux Falls\, at this Seat at the Table event. \nAdvanced registration is required.
URL:https://siouxfallsypn.com/event/ypn-a-seat-at-the-table-with-paul-hanson/
LOCATION:Greater Sioux Falls Chamber of Commerce\, 200 N. Phillips Ave. Suite 200\, Sioux Falls\, SD\, 57104\, United States
END:VEVENT
BEGIN:VEVENT
DTSTART;TZID=America/Chicago:20221220T120000
DTEND;TZID=America/Chicago:20221220T130000
DTSTAMP:20260424T043646
CREATED:20221110T173244Z
LAST-MODIFIED:20221121T222046Z
UID:10000204-1671537600-1671541200@siouxfallsypn.com
SUMMARY:YPN Our Sioux Falls: Call to Freedom
DESCRIPTION:Learn more about the organizations in the community where you live and work through programs that give details behind items impacting your quality of life.
URL:https://siouxfallsypn.com/event/ypn-our-sioux-falls-call-to-freedom/
LOCATION:Greater Sioux Falls Chamber of Commerce\, 200 N. Phillips Ave. Suite 200\, Sioux Falls\, SD\, 57104\, United States
END:VEVENT
BEGIN:VEVENT
DTSTART;TZID=America/Chicago:20221117T120000
DTEND;TZID=America/Chicago:20221117T130000
DTSTAMP:20260424T043646
CREATED:20221014T193027Z
LAST-MODIFIED:20221014T193027Z
UID:10000297-1668686400-1668690000@siouxfallsypn.com
SUMMARY:YPN Our Sioux Falls: Project CAR
DESCRIPTION:Join us to learn more about Project CAR\,  a nonprofit\, coordinated transportation service for people in Sioux Falls who have trouble finding rides to improve their wellbeing because of financial or physical limitations. They provide rides at little or no cost for persons to medical appointments\, religious activities\, employment for persons with developmental disabilities\, healthcare education for low-income students\, and seniors for adult care and companionship – all powered by volunteers.
URL:https://siouxfallsypn.com/event/ypn-our-sioux-falls-project-car/
LOCATION:Greater Sioux Falls Chamber of Commerce\, 200 N. Phillips Ave. Suite 200\, Sioux Falls\, SD\, 57104\, United States
END:VEVENT
BEGIN:VEVENT
DTSTART;TZID=America/Chicago:20221103T160000
DTEND;TZID=America/Chicago:20221103T170000
DTSTAMP:20260424T043646
CREATED:20221014T194059Z
LAST-MODIFIED:20221014T194059Z
UID:10000300-1667491200-1667494800@siouxfallsypn.com
SUMMARY:YPN Personal & Professional Development/Civic Engagement Action Team Meeting
DESCRIPTION:This action team plans tours of new projects in town\, lines up phenomenal speakers and generally guides the educational elements of YPN while also looking for ways to educate YPN members about current issues in our community and encourage civic participation among young professionals. . If you enjoy brainstorming events that help young professionals develop both personally and professionally then this is the team for you!
URL:https://siouxfallsypn.com/event/ypn-personal-professional-development-civic-engagement-action-team-meeting/
LOCATION:Greater Sioux Falls Chamber of Commerce\, 200 N. Phillips Ave. Suite 200\, Sioux Falls\, SD\, 57104\, United States
END:VEVENT
BEGIN:VEVENT
DTSTART;TZID=America/Chicago:20221025T073000
DTEND;TZID=America/Chicago:20221025T083000
DTSTAMP:20260424T043646
CREATED:20220926T203932Z
LAST-MODIFIED:20220926T203932Z
UID:10000292-1666683000-1666686600@siouxfallsypn.com
SUMMARY:YPN Coffee Table Talk- Understanding the Ballot Issues
DESCRIPTION:Boost your knowledge of the issues that will be on your general election ballot in 2022. Justin Bentaas\, Public Affairs and Research Manager for the Chamber\, will explain the pro/con and answer questions about the three issues on the ballot for Sioux Falls voters.
URL:https://siouxfallsypn.com/event/ypn-coffee-table-talk-understanding-the-ballot-issues/
LOCATION:Greater Sioux Falls Chamber of Commerce\, 200 N. Phillips Ave. Suite 200\, Sioux Falls\, SD\, 57104\, United States
END:VEVENT
BEGIN:VEVENT
DTSTART;TZID=America/Chicago:20221012T120000
DTEND;TZID=America/Chicago:20221012T130000
DTSTAMP:20260424T043646
CREATED:20220916T153508Z
LAST-MODIFIED:20220916T153508Z
UID:10000197-1665576000-1665579600@siouxfallsypn.com
SUMMARY:YPN New Member Lunch
DESCRIPTION:Are you new to YPN? Looking for your first event to attend? Join us for our New Member Lunch at the Chamber! This is a great opportunity to meet other new members and ask questions to experienced members. Lunch will be provided for $15. Space is limited to the first 20 people to RSVP!
URL:https://siouxfallsypn.com/event/ypn-new-member-lunch-3/
LOCATION:Greater Sioux Falls Chamber of Commerce\, 200 N. Phillips Ave. Suite 200\, Sioux Falls\, SD\, 57104\, United States
END:VEVENT
BEGIN:VEVENT
DTSTART;TZID=America/Chicago:20220901T160000
DTEND;TZID=America/Chicago:20220901T170000
DTSTAMP:20260424T043646
CREATED:20220811T170437Z
LAST-MODIFIED:20220811T170446Z
UID:10000192-1662048000-1662051600@siouxfallsypn.com
SUMMARY:YPN Personal & Professional Development/Civic Engagement Action Team Meeting
DESCRIPTION:This action team plans tours of new projects in town\, lines up phenomenal speakers and generally guides the educational elements of YPN while also looking for ways to educate YPN members about current issues in our community and encourage civic participation among young professionals. . If you enjoy brainstorming events that help young professionals develop both personally and professionally then this is the team for you!
URL:https://siouxfallsypn.com/event/personal-professional-development-civic-engagement-action-team-meeting/
LOCATION:Greater Sioux Falls Chamber of Commerce\, 200 N. Phillips Ave. Suite 200\, Sioux Falls\, SD\, 57104\, United States
END:VEVENT
END:VCALENDAR