BEGIN:VCALENDAR
VERSION:2.0
PRODID:-//Sioux Falls Young Professionals Network - ECPv6.15.18//NONSGML v1.0//EN
CALSCALE:GREGORIAN
METHOD:PUBLISH
X-WR-CALNAME:Sioux Falls Young Professionals Network
X-ORIGINAL-URL:https://siouxfallsypn.com
X-WR-CALDESC:Events for Sioux Falls Young Professionals Network
REFRESH-INTERVAL;VALUE=DURATION:PT1H
X-Robots-Tag:noindex
X-PUBLISHED-TTL:PT1H
BEGIN:VTIMEZONE
TZID:America/Chicago
BEGIN:DAYLIGHT
TZOFFSETFROM:-0600
TZOFFSETTO:-0500
TZNAME:CDT
DTSTART:20210314T080000
END:DAYLIGHT
BEGIN:STANDARD
TZOFFSETFROM:-0500
TZOFFSETTO:-0600
TZNAME:CST
DTSTART:20211107T070000
END:STANDARD
BEGIN:DAYLIGHT
TZOFFSETFROM:-0600
TZOFFSETTO:-0500
TZNAME:CDT
DTSTART:20220313T080000
END:DAYLIGHT
BEGIN:STANDARD
TZOFFSETFROM:-0500
TZOFFSETTO:-0600
TZNAME:CST
DTSTART:20221106T070000
END:STANDARD
BEGIN:DAYLIGHT
TZOFFSETFROM:-0600
TZOFFSETTO:-0500
TZNAME:CDT
DTSTART:20230312T080000
END:DAYLIGHT
BEGIN:STANDARD
TZOFFSETFROM:-0500
TZOFFSETTO:-0600
TZNAME:CST
DTSTART:20231105T070000
END:STANDARD
END:VTIMEZONE
BEGIN:VEVENT
DTSTART;TZID=America/Chicago:20221220T120000
DTEND;TZID=America/Chicago:20221220T130000
DTSTAMP:20260424T074051
CREATED:20221110T173244Z
LAST-MODIFIED:20221121T222046Z
UID:10000204-1671537600-1671541200@siouxfallsypn.com
SUMMARY:YPN Our Sioux Falls: Call to Freedom
DESCRIPTION:Learn more about the organizations in the community where you live and work through programs that give details behind items impacting your quality of life.
URL:https://siouxfallsypn.com/event/ypn-our-sioux-falls-call-to-freedom/
LOCATION:Greater Sioux Falls Chamber of Commerce\, 200 N. Phillips Ave. Suite 200\, Sioux Falls\, SD\, 57104\, United States
END:VEVENT
BEGIN:VEVENT
DTSTART;TZID=America/Chicago:20221117T120000
DTEND;TZID=America/Chicago:20221117T130000
DTSTAMP:20260424T074051
CREATED:20221014T193027Z
LAST-MODIFIED:20221014T193027Z
UID:10000297-1668686400-1668690000@siouxfallsypn.com
SUMMARY:YPN Our Sioux Falls: Project CAR
DESCRIPTION:Join us to learn more about Project CAR\,  a nonprofit\, coordinated transportation service for people in Sioux Falls who have trouble finding rides to improve their wellbeing because of financial or physical limitations. They provide rides at little or no cost for persons to medical appointments\, religious activities\, employment for persons with developmental disabilities\, healthcare education for low-income students\, and seniors for adult care and companionship – all powered by volunteers.
URL:https://siouxfallsypn.com/event/ypn-our-sioux-falls-project-car/
LOCATION:Greater Sioux Falls Chamber of Commerce\, 200 N. Phillips Ave. Suite 200\, Sioux Falls\, SD\, 57104\, United States
END:VEVENT
BEGIN:VEVENT
DTSTART;TZID=America/Chicago:20221103T160000
DTEND;TZID=America/Chicago:20221103T170000
DTSTAMP:20260424T074051
CREATED:20221014T194059Z
LAST-MODIFIED:20221014T194059Z
UID:10000300-1667491200-1667494800@siouxfallsypn.com
SUMMARY:YPN Personal & Professional Development/Civic Engagement Action Team Meeting
DESCRIPTION:This action team plans tours of new projects in town\, lines up phenomenal speakers and generally guides the educational elements of YPN while also looking for ways to educate YPN members about current issues in our community and encourage civic participation among young professionals. . If you enjoy brainstorming events that help young professionals develop both personally and professionally then this is the team for you!
URL:https://siouxfallsypn.com/event/ypn-personal-professional-development-civic-engagement-action-team-meeting/
LOCATION:Greater Sioux Falls Chamber of Commerce\, 200 N. Phillips Ave. Suite 200\, Sioux Falls\, SD\, 57104\, United States
END:VEVENT
BEGIN:VEVENT
DTSTART;TZID=America/Chicago:20221025T073000
DTEND;TZID=America/Chicago:20221025T083000
DTSTAMP:20260424T074051
CREATED:20220926T203932Z
LAST-MODIFIED:20220926T203932Z
UID:10000292-1666683000-1666686600@siouxfallsypn.com
SUMMARY:YPN Coffee Table Talk- Understanding the Ballot Issues
DESCRIPTION:Boost your knowledge of the issues that will be on your general election ballot in 2022. Justin Bentaas\, Public Affairs and Research Manager for the Chamber\, will explain the pro/con and answer questions about the three issues on the ballot for Sioux Falls voters.
URL:https://siouxfallsypn.com/event/ypn-coffee-table-talk-understanding-the-ballot-issues/
LOCATION:Greater Sioux Falls Chamber of Commerce\, 200 N. Phillips Ave. Suite 200\, Sioux Falls\, SD\, 57104\, United States
END:VEVENT
BEGIN:VEVENT
DTSTART;TZID=America/Chicago:20221012T120000
DTEND;TZID=America/Chicago:20221012T130000
DTSTAMP:20260424T074051
CREATED:20220916T153508Z
LAST-MODIFIED:20220916T153508Z
UID:10000197-1665576000-1665579600@siouxfallsypn.com
SUMMARY:YPN New Member Lunch
DESCRIPTION:Are you new to YPN? Looking for your first event to attend? Join us for our New Member Lunch at the Chamber! This is a great opportunity to meet other new members and ask questions to experienced members. Lunch will be provided for $15. Space is limited to the first 20 people to RSVP!
URL:https://siouxfallsypn.com/event/ypn-new-member-lunch-3/
LOCATION:Greater Sioux Falls Chamber of Commerce\, 200 N. Phillips Ave. Suite 200\, Sioux Falls\, SD\, 57104\, United States
END:VEVENT
BEGIN:VEVENT
DTSTART;TZID=America/Chicago:20220901T160000
DTEND;TZID=America/Chicago:20220901T170000
DTSTAMP:20260424T074051
CREATED:20220811T170437Z
LAST-MODIFIED:20220811T170446Z
UID:10000192-1662048000-1662051600@siouxfallsypn.com
SUMMARY:YPN Personal & Professional Development/Civic Engagement Action Team Meeting
DESCRIPTION:This action team plans tours of new projects in town\, lines up phenomenal speakers and generally guides the educational elements of YPN while also looking for ways to educate YPN members about current issues in our community and encourage civic participation among young professionals. . If you enjoy brainstorming events that help young professionals develop both personally and professionally then this is the team for you!
URL:https://siouxfallsypn.com/event/personal-professional-development-civic-engagement-action-team-meeting/
LOCATION:Greater Sioux Falls Chamber of Commerce\, 200 N. Phillips Ave. Suite 200\, Sioux Falls\, SD\, 57104\, United States
END:VEVENT
BEGIN:VEVENT
DTSTART;TZID=America/Chicago:20220831T120000
DTEND;TZID=America/Chicago:20220831T130000
DTSTAMP:20260424T074051
CREATED:20220615T151017Z
LAST-MODIFIED:20220615T151017Z
UID:10000187-1661947200-1661950800@siouxfallsypn.com
SUMMARY:A Seat at the Table with Dzenan Berberovic
DESCRIPTION:Get to know Dzenan Berberovic\, M.A.\, CFRE Chief Philanthropy Officer\, Avera Health\, at this Seat at the Table event. \nAdvanced registration is required.
URL:https://siouxfallsypn.com/event/a-seat-at-the-table-with-dzenan-berberovic/
LOCATION:Greater Sioux Falls Chamber of Commerce\, 200 N. Phillips Ave. Suite 200\, Sioux Falls\, SD\, 57104\, United States
END:VEVENT
BEGIN:VEVENT
DTSTART;TZID=America/Chicago:20220811T160000
DTEND;TZID=America/Chicago:20220811T170000
DTSTAMP:20260424T074051
CREATED:20220727T201911Z
LAST-MODIFIED:20220727T201911Z
UID:10000287-1660233600-1660237200@siouxfallsypn.com
SUMMARY:YPN Personal and Professional Development/Civic Engagement Action Team Meeting
DESCRIPTION:This action team plans tours of new projects in town\, lines up phenomenal speakers and generally guides the educational elements of YPN while also looking for ways to educate YPN members about current issues in our community and encourage civic participation among young professionals. . If you enjoy brainstorming events that help young professionals develop both personally and professionally then this is the team for you!
URL:https://siouxfallsypn.com/event/ypn-personal-and-professional-development-civic-engagement-action-team-meeting/
LOCATION:Greater Sioux Falls Chamber of Commerce\, 200 N. Phillips Ave. Suite 200\, Sioux Falls\, SD\, 57104\, United States
END:VEVENT
BEGIN:VEVENT
DTSTART;TZID=America/Chicago:20220728T073000
DTEND;TZID=America/Chicago:20220728T083000
DTSTAMP:20260424T074051
CREATED:20220615T141657Z
LAST-MODIFIED:20220622T161355Z
UID:10000186-1658993400-1658997000@siouxfallsypn.com
SUMMARY:YPN Coffee Table Talk- Sioux Falls Sustainability Plan
DESCRIPTION:The City of Sioux Falls wants your input! Join Holly Meier for a review of the current draft of the Sioux Falls Sustainability Plan. Share your feedback as a young professional and help shape the future of our community.
URL:https://siouxfallsypn.com/event/ypn-coffee-table-talk-sioux-falls-sustainability-plan/
LOCATION:Greater Sioux Falls Chamber of Commerce\, 200 N. Phillips Ave. Suite 200\, Sioux Falls\, SD\, 57104\, United States
END:VEVENT
BEGIN:VEVENT
DTSTART;TZID=America/Chicago:20220629T120000
DTEND;TZID=America/Chicago:20220629T130000
DTSTAMP:20260424T074051
CREATED:20220613T140509Z
LAST-MODIFIED:20220613T140509Z
UID:10000184-1656504000-1656507600@siouxfallsypn.com
SUMMARY:A Seat at the Table with Stensland Family Farms
DESCRIPTION:Our June Seat at the Table features Stensland Family Farms. Register today to get to know Chelsea and Justin Stensland\, Owners of Stensland Family Farms! \nA Seat at the Table is reserved for YPN Members only. You must register in advance. \nYou will need to click “Login” on the top right to register for the event. Click “Forgot Password” to set up a password (make sure you use the email address associated with the Chamber). After that you should then be able to register.
URL:https://siouxfallsypn.com/event/a-seat-at-the-table-with-stensland-family-farms/
LOCATION:Greater Sioux Falls Chamber of Commerce\, 200 N. Phillips Ave. Suite 200\, Sioux Falls\, SD\, 57104\, United States
END:VEVENT
BEGIN:VEVENT
DTSTART;TZID=America/Chicago:20220615T120000
DTEND;TZID=America/Chicago:20220615T130000
DTSTAMP:20260424T074051
CREATED:20220510T153118Z
LAST-MODIFIED:20220510T153118Z
UID:10000273-1655294400-1655298000@siouxfallsypn.com
SUMMARY:YPN New Member Lunch
DESCRIPTION:Are you new to YPN? Looking for your first event to attend? Join us for our New Member Lunch at the Chamber! This is a great opportunity to meet other new members and ask questions to experienced members. Lunch will be provided for $10. Space is limited to the first 20 people to RSVP!
URL:https://siouxfallsypn.com/event/ypn-new-member-lunch-2/
LOCATION:Greater Sioux Falls Chamber of Commerce\, 200 N. Phillips Ave. Suite 200\, Sioux Falls\, SD\, 57104\, United States
END:VEVENT
BEGIN:VEVENT
DTSTART;TZID=America/Chicago:20220607T160000
DTEND;TZID=America/Chicago:20220607T170000
DTSTAMP:20260424T074051
CREATED:20220510T155100Z
LAST-MODIFIED:20220510T155100Z
UID:10000279-1654617600-1654621200@siouxfallsypn.com
SUMMARY:Social Action Team Meeting
DESCRIPTION:Party planners and extroverts\, this team is for you! The Social Action Team plans all of the YPN networking and fun social events such as Off the Clock\, Morning Buzz\, Power Lunch\, and many others.
URL:https://siouxfallsypn.com/event/social-action-team-meeting-2/
LOCATION:Greater Sioux Falls Chamber of Commerce\, 200 N. Phillips Ave. Suite 200\, Sioux Falls\, SD\, 57104\, United States
END:VEVENT
BEGIN:VEVENT
DTSTART;TZID=America/Chicago:20220505T160000
DTEND;TZID=America/Chicago:20220505T170000
DTSTAMP:20260424T074051
CREATED:20220414T185915Z
LAST-MODIFIED:20220414T185915Z
UID:10000263-1651766400-1651770000@siouxfallsypn.com
SUMMARY:YPN Personal and Professional Development Action Team Meeting
DESCRIPTION:This action team plans tours of new projects in town\, lines up phenomenal speakers and generally guides the educational elements of YPN. If you enjoy brainstorming events that help young professionals develop both personally and professionally then this is the team for you!
URL:https://siouxfallsypn.com/event/ypn-personal-and-professional-development-action-team-meeting-2/
LOCATION:Greater Sioux Falls Chamber of Commerce\, 200 N. Phillips Ave. Suite 200\, Sioux Falls\, SD\, 57104\, United States
END:VEVENT
BEGIN:VEVENT
DTSTART;TZID=America/Chicago:20220503T160000
DTEND;TZID=America/Chicago:20220503T170000
DTSTAMP:20260424T074051
CREATED:20220414T185249Z
LAST-MODIFIED:20220414T185249Z
UID:10000261-1651593600-1651597200@siouxfallsypn.com
SUMMARY:YPN Social Action Team Meeting
DESCRIPTION:Party planners and extroverts\, this team is for you! The Social Action Team plans all of the YPN networking and fun social events such as Off the Clock\, Morning Buzz\, Power Lunch\, and many others.
URL:https://siouxfallsypn.com/event/ypn-social-action-team-meeting-2/
LOCATION:Greater Sioux Falls Chamber of Commerce\, 200 N. Phillips Ave. Suite 200\, Sioux Falls\, SD\, 57104\, United States
END:VEVENT
BEGIN:VEVENT
DTSTART;TZID=America/Chicago:20220413T120000
DTEND;TZID=America/Chicago:20220413T130000
DTSTAMP:20260424T074051
CREATED:20220314T202650Z
LAST-MODIFIED:20220314T202650Z
UID:10000251-1649851200-1649854800@siouxfallsypn.com
SUMMARY:A Seat at the Table: Alex Ramirez
DESCRIPTION:Our April Seat at the Table features Alex Ramirez. Register today to get to know Alex Ramirez\,USA Media TV and Chair of the Board of Directors for the Chamber! \nA Seat at the Table is reserved for YPN Members only. You must register in advance. \nYou will need to click “Login” on the top right to register for the event. Click “Forgot Password” to set up a password (make sure you use the email address associated with the Chamber). After that you should then be able to register. \n  \n 
URL:https://siouxfallsypn.com/event/a-seat-at-the-table-alex-ramirez/
LOCATION:Greater Sioux Falls Chamber of Commerce\, 200 N. Phillips Ave. Suite 200\, Sioux Falls\, SD\, 57104\, United States
END:VEVENT
BEGIN:VEVENT
DTSTART;TZID=America/Chicago:20220405T160000
DTEND;TZID=America/Chicago:20220405T170000
DTSTAMP:20260424T074051
CREATED:20220404T141001Z
LAST-MODIFIED:20220404T141001Z
UID:10000255-1649174400-1649178000@siouxfallsypn.com
SUMMARY:Social Action Team Meeting
DESCRIPTION:Party planners and extroverts\, this team is for you! The Social Action Team plans all of the YPN networking and fun social events such as Off the Clock\, Morning Buzz\, Power Lunch\, and many others.
URL:https://siouxfallsypn.com/event/social-action-team-meeting/
LOCATION:Greater Sioux Falls Chamber of Commerce\, 200 N. Phillips Ave. Suite 200\, Sioux Falls\, SD\, 57104\, United States
END:VEVENT
BEGIN:VEVENT
DTSTART;TZID=America/Chicago:20220405T120000
DTEND;TZID=America/Chicago:20220405T130000
DTSTAMP:20260424T074051
CREATED:20220314T201217Z
LAST-MODIFIED:20220314T201217Z
UID:10000249-1649160000-1649163600@siouxfallsypn.com
SUMMARY:Our Sioux Falls: EmBe Youth Programs
DESCRIPTION:Join us at the Chamber of Commerce for our Our Sioux Falls event! At the YPN Our Sioux Falls events\, members can learn more about the community where they live and work. Registration in advance is required. \nPresented by: Allison Sinning\, EmBe
URL:https://siouxfallsypn.com/event/our-sioux-falls-embe-youth-programs/
LOCATION:Greater Sioux Falls Chamber of Commerce\, 200 N. Phillips Ave. Suite 200\, Sioux Falls\, SD\, 57104\, United States
END:VEVENT
BEGIN:VEVENT
DTSTART;TZID=America/Chicago:20220324T120000
DTEND;TZID=America/Chicago:20220324T130000
DTSTAMP:20260424T074051
CREATED:20220108T225205Z
LAST-MODIFIED:20220110T051336Z
UID:10000236-1648123200-1648126800@siouxfallsypn.com
SUMMARY:YPN New Member Lunch
DESCRIPTION:Are you new to YPN? Looking for your first event to attend? Join us for our New Member Lunch at the Chamber! This is a great opportunity to meet other new members and ask questions to experienced members. Lunch will be provided for $10. Space is limited to the first 20 people to RSVP!
URL:https://siouxfallsypn.com/event/ypn-new-member-lunch/
LOCATION:Greater Sioux Falls Chamber of Commerce\, 200 N. Phillips Ave. Suite 200\, Sioux Falls\, SD\, 57104\, United States
CATEGORIES:Networking,New Member Lunch
END:VEVENT
BEGIN:VEVENT
DTSTART;TZID=America/Chicago:20220316T160000
DTEND;TZID=America/Chicago:20220316T170000
DTSTAMP:20260424T074051
CREATED:20220221T192057Z
LAST-MODIFIED:20220221T192057Z
UID:10000246-1647446400-1647450000@siouxfallsypn.com
SUMMARY:YPN Civic Engagement Action Team Meeting
DESCRIPTION:The Civic Engagement Action Team looks for ways to educate YPN members about current issues in our community and encourage civic participation among young professionals.
URL:https://siouxfallsypn.com/event/ypn-civic-engagement-action-team-meeting/
LOCATION:Greater Sioux Falls Chamber of Commerce\, 200 N. Phillips Ave. Suite 200\, Sioux Falls\, SD\, 57104\, United States
END:VEVENT
BEGIN:VEVENT
DTSTART;TZID=America/Chicago:20220316T120000
DTEND;TZID=America/Chicago:20220316T130000
DTSTAMP:20260424T074051
CREATED:20220221T154150Z
LAST-MODIFIED:20220221T154308Z
UID:10000243-1647432000-1647435600@siouxfallsypn.com
SUMMARY:Seat at the Table with Dr. José-Marie Griffiths
DESCRIPTION:Our March Seat at the Table features Dr. José-Marie Griffiths. Register today to get to know Dr. Griffiths\, the president of Dakota State University! \nA Seat at the Table is reserved for YPN Members only. You must register in advance. \nYou will need to click “Login” on the top right to register for the event. Click “Forgot Password” to set up a password (make sure you use the email address associated with the Chamber). After that you should then be able to register.
URL:https://siouxfallsypn.com/event/ypn-seat-at-the-table/
LOCATION:Greater Sioux Falls Chamber of Commerce\, 200 N. Phillips Ave. Suite 200\, Sioux Falls\, SD\, 57104\, United States
END:VEVENT
BEGIN:VEVENT
DTSTART;TZID=America/Chicago:20220301T160000
DTEND;TZID=America/Chicago:20220301T170000
DTSTAMP:20260424T074051
CREATED:20220221T191600Z
LAST-MODIFIED:20220221T191600Z
UID:10000244-1646150400-1646154000@siouxfallsypn.com
SUMMARY:YPN Social Action Team Meeting
DESCRIPTION:Party planners and extroverts\, this team is for you! The Social Action Team plans all of the YPN networking and fun social events such as Off the Clock\, Morning Buzz\, Power Lunch\, and many others.
URL:https://siouxfallsypn.com/event/ypn-social-action-team-meeting/
LOCATION:Greater Sioux Falls Chamber of Commerce\, 200 N. Phillips Ave. Suite 200\, Sioux Falls\, SD\, 57104\, United States
END:VEVENT
BEGIN:VEVENT
DTSTART;TZID=America/Chicago:20220201T120000
DTEND;TZID=America/Chicago:20220201T130000
DTSTAMP:20260424T074051
CREATED:20220108T223543Z
LAST-MODIFIED:20220110T050553Z
UID:10000228-1643716800-1643720400@siouxfallsypn.com
SUMMARY:YPN Our Sioux Falls: Empower Campus Co-Hosted by YPN & Emerging Leaders
DESCRIPTION:Join us at the Chamber of Commerce for our Our Sioux Falls event! At the YPN Our Sioux Falls events\, members can learn more about the community where they live and work. Advance registration is required. \nPresented by Rich Merkouris
URL:https://siouxfallsypn.com/event/ypn-our-sioux-falls-empower-campus-co-hosted-by-ypn-emerging-leaders/
LOCATION:Greater Sioux Falls Chamber of Commerce\, 200 N. Phillips Ave. Suite 200\, Sioux Falls\, SD\, 57104\, United States
CATEGORIES:Civic Engagement,Our Sioux Falls
END:VEVENT
BEGIN:VEVENT
DTSTART;TZID=America/Chicago:20220120T120000
DTEND;TZID=America/Chicago:20220120T130000
DTSTAMP:20260424T074051
CREATED:20220108T222933Z
LAST-MODIFIED:20220110T004932Z
UID:10000225-1642680000-1642683600@siouxfallsypn.com
SUMMARY:YPN: A Seat at the Table with Kerri Tietgen
DESCRIPTION:Our January Seat at the Table features Kerri Tietgen. Register today to get to know Kerri\, the Chief Executive Officer at EmBe! \nA Seat at the Table is reserved for YPN Members only. You must register in advance. \nYou will need to click “Login” on the top right to register for the event. Click “Forgot Password” to set up a password (make sure you use the email address associated with the Chamber). After that you should then be able to register.
URL:https://siouxfallsypn.com/event/ypn-a-seat-at-the-table-with-kerri-tietgen/
LOCATION:Greater Sioux Falls Chamber of Commerce\, 200 N. Phillips Ave. Suite 200\, Sioux Falls\, SD\, 57104\, United States
CATEGORIES:A Seat At The Table,Professional Development
END:VEVENT
BEGIN:VEVENT
DTSTART;TZID=America/Chicago:20220111T120000
DTEND;TZID=America/Chicago:20220111T130000
DTSTAMP:20260424T074051
CREATED:20220108T222741Z
LAST-MODIFIED:20220110T050450Z
UID:10000224-1641902400-1641906000@siouxfallsypn.com
SUMMARY:YPN Focus Workshop: Understanding cryptocurrency and its evolution into our everyday lives
DESCRIPTION:YPN Focus Workshops are learning opportunities for YPN Members that are held monthly. Limited to the first 30 registrants. Lunch will be provided courtesy of Plains Commerce Bank. \nThe birth of blockchain technology and cryptocurrency began over a decade ago as a niche and unique industry. This space now has completely disrupted traditional finance and other industries and now it has reached a meaningful inflection point. Businesses today are trying to understand what this is\, how it has grown so rapidly\, and how it will affect them in the future. \nPresenter: Kyle Pickner\, Chief Trust Officer\, Plains Commerce Bank \nYou will need to click “Login” on the top right to register for the event. Click “Forgot Password” to set up a password (make sure you use the email address associated with the Chamber). After that you should then be able to register.
URL:https://siouxfallsypn.com/event/ypn-focus-workshop-understanding-cryptocurrency-and-its-evolution-into-our-everyday-lives/
LOCATION:Greater Sioux Falls Chamber of Commerce\, 200 N. Phillips Ave. Suite 200\, Sioux Falls\, SD\, 57104\, United States
CATEGORIES:Focus Workshop,Professional Development
END:VEVENT
END:VCALENDAR