BEGIN:VCALENDAR
VERSION:2.0
PRODID:-//Sioux Falls Young Professionals Network - ECPv6.15.18//NONSGML v1.0//EN
CALSCALE:GREGORIAN
METHOD:PUBLISH
X-WR-CALNAME:Sioux Falls Young Professionals Network
X-ORIGINAL-URL:https://siouxfallsypn.com
X-WR-CALDESC:Events for Sioux Falls Young Professionals Network
REFRESH-INTERVAL;VALUE=DURATION:PT1H
X-Robots-Tag:noindex
X-PUBLISHED-TTL:PT1H
BEGIN:VTIMEZONE
TZID:America/Chicago
BEGIN:DAYLIGHT
TZOFFSETFROM:-0600
TZOFFSETTO:-0500
TZNAME:CDT
DTSTART:20210314T080000
END:DAYLIGHT
BEGIN:STANDARD
TZOFFSETFROM:-0500
TZOFFSETTO:-0600
TZNAME:CST
DTSTART:20211107T070000
END:STANDARD
BEGIN:DAYLIGHT
TZOFFSETFROM:-0600
TZOFFSETTO:-0500
TZNAME:CDT
DTSTART:20220313T080000
END:DAYLIGHT
BEGIN:STANDARD
TZOFFSETFROM:-0500
TZOFFSETTO:-0600
TZNAME:CST
DTSTART:20221106T070000
END:STANDARD
BEGIN:DAYLIGHT
TZOFFSETFROM:-0600
TZOFFSETTO:-0500
TZNAME:CDT
DTSTART:20230312T080000
END:DAYLIGHT
BEGIN:STANDARD
TZOFFSETFROM:-0500
TZOFFSETTO:-0600
TZNAME:CST
DTSTART:20231105T070000
END:STANDARD
BEGIN:DAYLIGHT
TZOFFSETFROM:-0600
TZOFFSETTO:-0500
TZNAME:CDT
DTSTART:20240310T080000
END:DAYLIGHT
BEGIN:STANDARD
TZOFFSETFROM:-0500
TZOFFSETTO:-0600
TZNAME:CST
DTSTART:20241103T070000
END:STANDARD
BEGIN:DAYLIGHT
TZOFFSETFROM:-0600
TZOFFSETTO:-0500
TZNAME:CDT
DTSTART:20250309T080000
END:DAYLIGHT
BEGIN:STANDARD
TZOFFSETFROM:-0500
TZOFFSETTO:-0600
TZNAME:CST
DTSTART:20251102T070000
END:STANDARD
BEGIN:DAYLIGHT
TZOFFSETFROM:-0600
TZOFFSETTO:-0500
TZNAME:CDT
DTSTART:20260308T080000
END:DAYLIGHT
BEGIN:STANDARD
TZOFFSETFROM:-0500
TZOFFSETTO:-0600
TZNAME:CST
DTSTART:20261101T070000
END:STANDARD
END:VTIMEZONE
BEGIN:VEVENT
DTSTART;TZID=America/Chicago:20250117T120000
DTEND;TZID=America/Chicago:20250117T130000
DTSTAMP:20260421T105212
CREATED:20241230T205912Z
LAST-MODIFIED:20241230T205916Z
UID:10000483-1737115200-1737118800@siouxfallsypn.com
SUMMARY:Power Lunch - Burger Battle Week 3 | PAve
DESCRIPTION:Research says one of the best ways to improve your productivity at work is to take a lunch break. So check out of the office (or your home office) for the noon hour and enjoy lunch with us! We do ask that you RSVP in advance so we can monitor space requirements. \nYou will need to click “Login” on the top right to register for the event. Click “Forgot Password” to set up a password (make sure you use the email address associated with the Chamber). After that you should then be able to register. \nWe are committed to providing a welcoming and accessible experience for all event attendees. If you require any accommodations\, please reach out to Jaci Pieters at jpieters@siouxfalls.com. We will make every effort to meet your needs.
URL:https://siouxfallsypn.com/event/power-lunch-burger-battle-week-3-pave/
LOCATION:PAve\, 130 S Phillips Ave\, Sioux Falls\, 57104
END:VEVENT
BEGIN:VEVENT
DTSTART;TZID=America/Chicago:20240425T160000
DTEND;TZID=America/Chicago:20240425T190000
DTSTAMP:20260421T105212
CREATED:20240312T163856Z
LAST-MODIFIED:20240312T163856Z
UID:10000385-1714060800-1714071600@siouxfallsypn.com
SUMMARY:YPN Birthday Bash!
DESCRIPTION:Grab your friends and help us celebrate 15 years of YPN! Join us on the patio at PAve as it’s sure to be a good time complete with fun door prizes\, complimentary hors d’oeuvres\, and good people.\n\nThis event would not be possible without our sponsors! Thanks to our drink sponsor\, First PREMIER Bank\, every attendee will receive a free drink. Be sure to bring your business cards and you’ll be entered in a drawing to win a spectacular door prize!
URL:https://siouxfallsypn.com/event/ypn-birthday-bash-2/
LOCATION:PAve\, 130 S Phillips Ave\, Sioux Falls\, 57104
END:VEVENT
BEGIN:VEVENT
DTSTART;TZID=America/Chicago:20230427T160000
DTEND;TZID=America/Chicago:20230427T190000
DTSTAMP:20260421T105212
CREATED:20230303T152319Z
LAST-MODIFIED:20230419T142208Z
UID:10000313-1682611200-1682622000@siouxfallsypn.com
SUMMARY:YPN Birthday Bash!
DESCRIPTION:Grab your friends and help us celebrate 14 years of YPN! Join us on the patio at PAve as it’s sure to be a good time complete with fun door prizes\, complimentary hors d’oeuvres\, and good people.\n\nThis event would not be possible without our sponsors! Thanks to our drink sponsor\, First PREMIER Bank\, every attendee will receive a free drink. Our Social sponsor for the event is PAve. Be sure to bring your business cards and you’ll be entered in a drawing to win a spectacular door prize!
URL:https://siouxfallsypn.com/event/ypn-birthday-bash/
LOCATION:PAve\, 130 S Phillips Ave\, Sioux Falls\, 57104
END:VEVENT
BEGIN:VEVENT
DTSTART;TZID=America/Chicago:20220428T160000
DTEND;TZID=America/Chicago:20220428T190000
DTSTAMP:20260421T105212
CREATED:20220314T210344Z
LAST-MODIFIED:20220421T170108Z
UID:10000254-1651161600-1651172400@siouxfallsypn.com
SUMMARY:13-Year YPN Birthday Bash!
DESCRIPTION:Grab your friends and help us celebrate 13 years of YPN! Join us on the patio at PAve as it’s sure to be a good time complete with fun door prizes\, complimentary hors d’oeuvres\, and good people. See you there!\nThis event would not be possible without our sponsor! Thanks to our drink sponsor\, First PREMIER Bank\, every attendee will receive a free drink. Our Social sponsor for the event is PAve. Be sure to bring your business cards and you’ll be entered in a drawing to win a spectacular door prize!
URL:https://siouxfallsypn.com/event/13-year-ypn-birthday-bash/
LOCATION:PAve\, 130 S Phillips Ave\, Sioux Falls\, 57104
END:VEVENT
END:VCALENDAR