BEGIN:VCALENDAR
VERSION:2.0
PRODID:-//Sioux Falls Young Professionals Network - ECPv6.15.18//NONSGML v1.0//EN
CALSCALE:GREGORIAN
METHOD:PUBLISH
X-ORIGINAL-URL:https://siouxfallsypn.com
X-WR-CALDESC:Events for Sioux Falls Young Professionals Network
REFRESH-INTERVAL;VALUE=DURATION:PT1H
X-Robots-Tag:noindex
X-PUBLISHED-TTL:PT1H
BEGIN:VTIMEZONE
TZID:America/Chicago
BEGIN:DAYLIGHT
TZOFFSETFROM:-0600
TZOFFSETTO:-0500
TZNAME:CDT
DTSTART:20220313T080000
END:DAYLIGHT
BEGIN:STANDARD
TZOFFSETFROM:-0500
TZOFFSETTO:-0600
TZNAME:CST
DTSTART:20221106T070000
END:STANDARD
BEGIN:DAYLIGHT
TZOFFSETFROM:-0600
TZOFFSETTO:-0500
TZNAME:CDT
DTSTART:20230312T080000
END:DAYLIGHT
BEGIN:STANDARD
TZOFFSETFROM:-0500
TZOFFSETTO:-0600
TZNAME:CST
DTSTART:20231105T070000
END:STANDARD
BEGIN:DAYLIGHT
TZOFFSETFROM:-0600
TZOFFSETTO:-0500
TZNAME:CDT
DTSTART:20240310T080000
END:DAYLIGHT
BEGIN:STANDARD
TZOFFSETFROM:-0500
TZOFFSETTO:-0600
TZNAME:CST
DTSTART:20241103T070000
END:STANDARD
BEGIN:DAYLIGHT
TZOFFSETFROM:-0600
TZOFFSETTO:-0500
TZNAME:CDT
DTSTART:20250309T080000
END:DAYLIGHT
BEGIN:STANDARD
TZOFFSETFROM:-0500
TZOFFSETTO:-0600
TZNAME:CST
DTSTART:20251102T070000
END:STANDARD
BEGIN:DAYLIGHT
TZOFFSETFROM:-0600
TZOFFSETTO:-0500
TZNAME:CDT
DTSTART:20260308T080000
END:DAYLIGHT
BEGIN:STANDARD
TZOFFSETFROM:-0500
TZOFFSETTO:-0600
TZNAME:CST
DTSTART:20261101T070000
END:STANDARD
BEGIN:DAYLIGHT
TZOFFSETFROM:-0600
TZOFFSETTO:-0500
TZNAME:CDT
DTSTART:20270314T080000
END:DAYLIGHT
BEGIN:STANDARD
TZOFFSETFROM:-0500
TZOFFSETTO:-0600
TZNAME:CST
DTSTART:20271107T070000
END:STANDARD
END:VTIMEZONE
BEGIN:VEVENT
DTSTART;TZID=America/Chicago:20260413T160000
DTEND;TZID=America/Chicago:20260413T190000
DTSTAMP:20260421T081618
CREATED:20260309T132515Z
LAST-MODIFIED:20260309T132520Z
UID:10000612-1776096000-1776106800@siouxfallsypn.com
SUMMARY:YP Week Bags & BBQ
DESCRIPTION:Bags & BBQ: Sponsored and Hosted by Reliabank! \nJoin us for a fun-filled evening of bags\, delicious food\, and great company! This is a perfect opportunity to unwind\, enjoy some friendly competition\, and network with other young professionals. Whether you’re a bags pro or just in it for the BBQ\, there’s something for everyone. We also encourage you to bring a friend along and introduce them to the YPN community. Don’t miss this chance to connect\, compete\, and enjoy a night of good vibes. \nBring your own lawn chair! \nWe are committed to providing a welcoming and accessible experience for all event attendees. If you require any accommodations\, please reach out to Jaci Pieters at jpieters@siouxfalls.com. We will make every effort to meet your needs.
URL:https://siouxfallsypn.com/event/yp-week-bags-bbq-2/
LOCATION:Reliabank\, 608 W. 86th St.\, Sioux Falls\, 57108
CATEGORIES:Networking,Off the Clock
END:VEVENT
BEGIN:VEVENT
DTSTART;TZID=America/Chicago:20250422T163000
DTEND;TZID=America/Chicago:20250422T190000
DTSTAMP:20260421T081618
CREATED:20250325T204901Z
LAST-MODIFIED:20250325T204905Z
UID:10000516-1745339400-1745348400@siouxfallsypn.com
SUMMARY:YP Week Bags & BBQ
DESCRIPTION:Bags & BBQ: Sponsored and Hosted by Reliabank! \nJoin us for a fun-filled evening of bags\, delicious food\, and great company! This is a perfect opportunity to unwind\, enjoy some friendly competition\, and network with other young professionals. Whether you’re a bags pro or just in it for the BBQ\, there’s something for everyone. We also encourage you to bring a friend along and introduce them to the YPN community. Don’t miss this chance to connect\, compete\, and enjoy a night of good vibes. \nWe are committed to providing a welcoming and accessible experience for all event attendees. If you require any accommodations\, please reach out to Jaci Pieters at jpieters@siouxfalls.com. We will make every effort to meet your needs.
URL:https://siouxfallsypn.com/event/yp-week-bags-bbq/
LOCATION:Reliabank\, 608 W. 86th St.\, Sioux Falls\, 57108
CATEGORIES:Networking,Off the Clock
END:VEVENT
BEGIN:VEVENT
DTSTART;TZID=America/Chicago:20230119T160000
DTEND;TZID=America/Chicago:20230119T190000
DTSTAMP:20260421T081618
CREATED:20221221T211334Z
LAST-MODIFIED:20221221T211349Z
UID:10000302-1674144000-1674154800@siouxfallsypn.com
SUMMARY:YPN Off the Clock
DESCRIPTION:Join us for January’s Off the Clock hosted by Reliabank! In true YPN fashion\, you will have a chance to make new friends and business connections by networking in a relaxed setting. No registration required – just show up and encourage other young professionals or colleagues to join you. 
URL:https://siouxfallsypn.com/event/ypn-off-the-clock-6/
LOCATION:Reliabank\, 608 W. 86th St.\, Sioux Falls\, 57108
END:VEVENT
END:VCALENDAR