BEGIN:VCALENDAR
VERSION:2.0
PRODID:-//Sioux Falls Young Professionals Network - ECPv6.15.18//NONSGML v1.0//EN
CALSCALE:GREGORIAN
METHOD:PUBLISH
X-WR-CALNAME:Sioux Falls Young Professionals Network
X-ORIGINAL-URL:https://siouxfallsypn.com
X-WR-CALDESC:Events for Sioux Falls Young Professionals Network
REFRESH-INTERVAL;VALUE=DURATION:PT1H
X-Robots-Tag:noindex
X-PUBLISHED-TTL:PT1H
BEGIN:VTIMEZONE
TZID:America/Chicago
BEGIN:DAYLIGHT
TZOFFSETFROM:-0600
TZOFFSETTO:-0500
TZNAME:CDT
DTSTART:20210314T080000
END:DAYLIGHT
BEGIN:STANDARD
TZOFFSETFROM:-0500
TZOFFSETTO:-0600
TZNAME:CST
DTSTART:20211107T070000
END:STANDARD
BEGIN:DAYLIGHT
TZOFFSETFROM:-0600
TZOFFSETTO:-0500
TZNAME:CDT
DTSTART:20220313T080000
END:DAYLIGHT
BEGIN:STANDARD
TZOFFSETFROM:-0500
TZOFFSETTO:-0600
TZNAME:CST
DTSTART:20221106T070000
END:STANDARD
BEGIN:DAYLIGHT
TZOFFSETFROM:-0600
TZOFFSETTO:-0500
TZNAME:CDT
DTSTART:20230312T080000
END:DAYLIGHT
BEGIN:STANDARD
TZOFFSETFROM:-0500
TZOFFSETTO:-0600
TZNAME:CST
DTSTART:20231105T070000
END:STANDARD
BEGIN:DAYLIGHT
TZOFFSETFROM:-0600
TZOFFSETTO:-0500
TZNAME:CDT
DTSTART:20240310T080000
END:DAYLIGHT
BEGIN:STANDARD
TZOFFSETFROM:-0500
TZOFFSETTO:-0600
TZNAME:CST
DTSTART:20241103T070000
END:STANDARD
END:VTIMEZONE
BEGIN:VEVENT
DTSTART;TZID=America/Chicago:20231009T171500
DTEND;TZID=America/Chicago:20231009T181500
DTSTAMP:20260421T164419
CREATED:20230911T184251Z
LAST-MODIFIED:20230911T184251Z
UID:10000357-1696871700-1696875300@siouxfallsypn.com
SUMMARY:YPs Read
DESCRIPTION:YPs Read is a book club for members of the Sioux Falls Young Professionals Network. We will focus on reading Personal and Professional development books. \nThis month\, we are reading Unreasonable Hospitality.\n\n\nToday\, every business can choose to be a hospitality business—and we can all transform ordinary transactions into extraordinary experiences. Featuring sparkling stories of his journey through restaurants\, with the industry’s most famous players like Daniel Boulud and Danny Meyer\, Guidara urges us all to find the magic in what we do—for ourselves\, the people we work with\, and the people we serve.\n\n\nRead the book and come prepared and be ready to have a great discussion!
URL:https://siouxfallsypn.com/event/yps-read-12/
LOCATION:Remedy Brewing Company\, 401 E. 8th St.\, Suite 120\, Sioux Falls\, 57103
END:VEVENT
BEGIN:VEVENT
DTSTART;TZID=America/Chicago:20230914T163000
DTEND;TZID=America/Chicago:20230914T183000
DTSTAMP:20260421T164419
CREATED:20230808T195930Z
LAST-MODIFIED:20230814T221352Z
UID:10000352-1694709000-1694716200@siouxfallsypn.com
SUMMARY:Off the Clock
DESCRIPTION:Join us for Off the Clock! In true YPN fashion\, you will have a chance to make new friends and business connections by networking in a relaxed setting. No registration required – just show up and encourage other young professionals or colleagues to join you. \nBe sure to make note of the new time frame of this event! We hope to see you from 4:30-6:30PM.
URL:https://siouxfallsypn.com/event/off-the-clock-3/
LOCATION:Remedy Brewing Company\, 401 E. 8th St.\, Suite 120\, Sioux Falls\, 57103
END:VEVENT
BEGIN:VEVENT
DTSTART;TZID=America/Chicago:20230109T170000
DTEND;TZID=America/Chicago:20230109T180000
DTSTAMP:20260421T164419
CREATED:20221118T180345Z
LAST-MODIFIED:20230103T154301Z
UID:10000208-1673283600-1673287200@siouxfallsypn.com
SUMMARY:YPs Read
DESCRIPTION:YPs Read is a book club for members of the Sioux Falls Young Professionals Network. We will focus on reading Personal and Professional development books. \nHeading into a new year\, we want to start off on the right foot. We’ll be reading: One Word that will change your life\, by Jon Gordon!\n\nThe simple power of One Word is that it impacts all six dimensions of your life – mental\, physical\, emotional\, relational\, spiritual\, and financial. Simply put\, One Word sticks. There is a word meant for you and when you find it\, live it\, and share it\, your life will become more rewarding and exciting than ever.\n\nRead the book and come prepared with your ONE WORD for 2023 that you plan to live life by. Bring some of your goals that align with that word and be ready to have a great discussion!
URL:https://siouxfallsypn.com/event/yps-read-8/
LOCATION:Remedy Brewing Company\, 401 E. 8th St.\, Suite 120\, Sioux Falls\, 57103
END:VEVENT
BEGIN:VEVENT
DTSTART;TZID=America/Chicago:20221107T170000
DTEND;TZID=America/Chicago:20221107T180000
DTSTAMP:20260421T164419
CREATED:20221014T191953Z
LAST-MODIFIED:20221014T191953Z
UID:10000294-1667840400-1667844000@siouxfallsypn.com
SUMMARY:YPs Read
DESCRIPTION:YPs Read is a book club for members of the Sioux Falls Young Professionals Network. We will focus on reading Personal and Professional development books. Join us on November 7th! \nThis month\, we’re reading an industry focused book of your choice –  come ready to discuss.
URL:https://siouxfallsypn.com/event/yps-read-7/
LOCATION:Remedy Brewing Company\, 401 E. 8th St.\, Suite 120\, Sioux Falls\, 57103
END:VEVENT
BEGIN:VEVENT
DTSTART;TZID=America/Chicago:20221004T160000
DTEND;TZID=America/Chicago:20221004T170000
DTSTAMP:20260421T164419
CREATED:20220926T144612Z
LAST-MODIFIED:20220926T144612Z
UID:10000198-1664899200-1664902800@siouxfallsypn.com
SUMMARY:YPN Social Action Team Meeting
DESCRIPTION:Party planners and extroverts\, this team is for you! The Social Action Team plans all of the YPN networking and fun social events such as Off the Clock\, Morning Buzz\, Power Lunch\, and many others.
URL:https://siouxfallsypn.com/event/ypn-social-action-team-meeting-5/
LOCATION:Remedy Brewing Company\, 401 E. 8th St.\, Suite 120\, Sioux Falls\, 57103
END:VEVENT
BEGIN:VEVENT
DTSTART;TZID=America/Chicago:20220928T160000
DTEND;TZID=America/Chicago:20220928T190000
DTSTAMP:20260421T164419
CREATED:20220901T163932Z
LAST-MODIFIED:20220901T163932Z
UID:10000193-1664380800-1664391600@siouxfallsypn.com
SUMMARY:YPN Off the Clock
DESCRIPTION:Join us for September’s Off the Clock! In true YPN fashion\, you will have a chance to make new friends and business connections by networking in a relaxed setting. No registration required – just show up and encourage other young professionals or colleagues to join you.
URL:https://siouxfallsypn.com/event/ypn-off-the-clock-4/
LOCATION:Remedy Brewing Company\, 401 E. 8th St.\, Suite 120\, Sioux Falls\, 57103
END:VEVENT
BEGIN:VEVENT
DTSTART;TZID=America/Chicago:20220906T160000
DTEND;TZID=America/Chicago:20220906T170000
DTSTAMP:20260421T164419
CREATED:20220811T170248Z
LAST-MODIFIED:20220811T170248Z
UID:10000191-1662480000-1662483600@siouxfallsypn.com
SUMMARY:YPN Social Action Team Meeting
DESCRIPTION:Party planners and extroverts\, this team is for you! The Social Action Team plans all of the YPN networking and fun social events such as Off the Clock\, Morning Buzz\, Power Lunch\, and many others.
URL:https://siouxfallsypn.com/event/ypn-social-action-team-meeting-4/
LOCATION:Remedy Brewing Company\, 401 E. 8th St.\, Suite 120\, Sioux Falls\, 57103
END:VEVENT
BEGIN:VEVENT
DTSTART;TZID=America/Chicago:20220802T160000
DTEND;TZID=America/Chicago:20220802T170000
DTSTAMP:20260421T164419
CREATED:20220727T200347Z
LAST-MODIFIED:20220727T200347Z
UID:10000286-1659456000-1659459600@siouxfallsypn.com
SUMMARY:YPN Social Action Team Meeting
DESCRIPTION:Party planners and extroverts\, this team is for you! The Social Action Team plans all of the YPN networking and fun social events such as Off the Clock\, Morning Buzz\, Power Lunch\, and many others.
URL:https://siouxfallsypn.com/event/ypn-social-action-team-meeting-3/
LOCATION:Remedy Brewing Company\, 401 E. 8th St.\, Suite 120\, Sioux Falls\, 57103
END:VEVENT
BEGIN:VEVENT
DTSTART;TZID=America/Chicago:20220801T170000
DTEND;TZID=America/Chicago:20220801T180000
DTSTAMP:20260421T164419
CREATED:20220715T155212Z
LAST-MODIFIED:20220715T155212Z
UID:10000282-1659373200-1659376800@siouxfallsypn.com
SUMMARY:YPs Read
DESCRIPTION:YPs Read is a book club for members of the Sioux Falls Young Professionals Network. We will focus on reading Personal and Professional development books. Join us on August 1st! \nThis month\, choose your own adventure – read whatever you want\, come ready to discuss.
URL:https://siouxfallsypn.com/event/yps-read-5/
LOCATION:Remedy Brewing Company\, 401 E. 8th St.\, Suite 120\, Sioux Falls\, 57103
END:VEVENT
BEGIN:VEVENT
DTSTART;TZID=America/Chicago:20220613T170000
DTEND;TZID=America/Chicago:20220613T180000
DTSTAMP:20260421T164419
CREATED:20220510T152701Z
LAST-MODIFIED:20220510T152746Z
UID:10000271-1655139600-1655143200@siouxfallsypn.com
SUMMARY:YPs Read
DESCRIPTION:YPs Read is a book club for members of the Sioux Falls Young Professionals Network. We will focus on reading Personal and Professional development books. Join us on June 13th! \nWe will be discussing the book Atomic Habits: An Easy & Proven Way to Build Good Habits & Break Bad Ones by James Clear.
URL:https://siouxfallsypn.com/event/yps-read-4/
LOCATION:Remedy Brewing Company\, 401 E. 8th St.\, Suite 120\, Sioux Falls\, 57103
END:VEVENT
END:VCALENDAR