BEGIN:VCALENDAR
VERSION:2.0
PRODID:-//Sioux Falls Young Professionals Network - ECPv6.15.18//NONSGML v1.0//EN
CALSCALE:GREGORIAN
METHOD:PUBLISH
X-WR-CALNAME:Sioux Falls Young Professionals Network
X-ORIGINAL-URL:https://siouxfallsypn.com
X-WR-CALDESC:Events for Sioux Falls Young Professionals Network
REFRESH-INTERVAL;VALUE=DURATION:PT1H
X-Robots-Tag:noindex
X-PUBLISHED-TTL:PT1H
BEGIN:VTIMEZONE
TZID:America/Chicago
BEGIN:DAYLIGHT
TZOFFSETFROM:-0600
TZOFFSETTO:-0500
TZNAME:CDT
DTSTART:20210314T080000
END:DAYLIGHT
BEGIN:STANDARD
TZOFFSETFROM:-0500
TZOFFSETTO:-0600
TZNAME:CST
DTSTART:20211107T070000
END:STANDARD
BEGIN:DAYLIGHT
TZOFFSETFROM:-0600
TZOFFSETTO:-0500
TZNAME:CDT
DTSTART:20220313T080000
END:DAYLIGHT
BEGIN:STANDARD
TZOFFSETFROM:-0500
TZOFFSETTO:-0600
TZNAME:CST
DTSTART:20221106T070000
END:STANDARD
BEGIN:DAYLIGHT
TZOFFSETFROM:-0600
TZOFFSETTO:-0500
TZNAME:CDT
DTSTART:20230312T080000
END:DAYLIGHT
BEGIN:STANDARD
TZOFFSETFROM:-0500
TZOFFSETTO:-0600
TZNAME:CST
DTSTART:20231105T070000
END:STANDARD
BEGIN:DAYLIGHT
TZOFFSETFROM:-0600
TZOFFSETTO:-0500
TZNAME:CDT
DTSTART:20240310T080000
END:DAYLIGHT
BEGIN:STANDARD
TZOFFSETFROM:-0500
TZOFFSETTO:-0600
TZNAME:CST
DTSTART:20241103T070000
END:STANDARD
BEGIN:DAYLIGHT
TZOFFSETFROM:-0600
TZOFFSETTO:-0500
TZNAME:CDT
DTSTART:20250309T080000
END:DAYLIGHT
BEGIN:STANDARD
TZOFFSETFROM:-0500
TZOFFSETTO:-0600
TZNAME:CST
DTSTART:20251102T070000
END:STANDARD
END:VTIMEZONE
BEGIN:VEVENT
DTSTART;TZID=America/Chicago:20240625T120000
DTEND;TZID=America/Chicago:20240625T130000
DTSTAMP:20260421T102256
CREATED:20240413T130012Z
LAST-MODIFIED:20240319T200902Z
UID:10000397-1719316800-1719320400@siouxfallsypn.com
SUMMARY:Focus Workshop: Generational Leadership
DESCRIPTION:Join us for this YPN Focus Workshop\, a virtual learning sessions exclusively designed for YPN Members. In this workshop\, you’ll hear from Anna Jankord about Generational Leadership. \nPre-Registration is Required. After registering\, you will receive a link to join the Zoom call on the day of the workshop. \nAfter clicking on “Register Now\,” you will need to click “Login” on the top right to register for the event. Click “Forgot Password” to set up a password (make sure you use the email address associated with the Chamber). After that you should then be able to register.
URL:https://siouxfallsypn.com/event/focus-workshop-generational-leadership/
LOCATION:Zoom
CATEGORIES:Focus Workshop,Professional Development
END:VEVENT
BEGIN:VEVENT
DTSTART;TZID=America/Chicago:20240411T120000
DTEND;TZID=America/Chicago:20240411T130000
DTSTAMP:20260421T102256
CREATED:20240311T163201Z
LAST-MODIFIED:20240312T161743Z
UID:10000382-1712836800-1712840400@siouxfallsypn.com
SUMMARY:Focus Workshop: Chamber Engagement Panel - Exploring Involvement
DESCRIPTION:Join us for this YPN Focus Workshop\, a virtual learning sessions exclusively designed for YPN Members. In this workshop\, you’ll have the chance to engage with Chamber volunteers from diverse backgrounds as they share their journeys of getting involved with the Greater Sioux Falls Chamber of Commerce. Don’t miss out on this invaluable opportunity to gain insights and inspiration! \nPre-Registration is Required. After registering\, you will receive a link to join the Zoom call on the day of the workshop. \nAfter clicking on “Register Now\,” you will need to click “Login” on the top right to register for the event. Click “Forgot Password” to set up a password (make sure you use the email address associated with the Chamber). After that you should then be able to register.
URL:https://siouxfallsypn.com/event/focus-workshop-chamber-engagement-panel-exploring-involvement/
LOCATION:Zoom
CATEGORIES:Focus Workshop,Professional Development
END:VEVENT
BEGIN:VEVENT
DTSTART;TZID=America/Chicago:20240313T120000
DTEND;TZID=America/Chicago:20240313T130000
DTSTAMP:20260421T102256
CREATED:20240102T212620Z
LAST-MODIFIED:20240102T214208Z
UID:10000371-1710331200-1710334800@siouxfallsypn.com
SUMMARY:Focus Workshop: Volunteering
DESCRIPTION:YPN Focus Workshops are virtual learning opportunities for YPN Members that are held monthly. \nPre-Registration is Required. After registering\, you will receive a link to join the Zoom call on the day of the workshop. \nAfter clicking on “Register Now\,” you will need to click “Login” on the top right to register for the event. Click “Forgot Password” to set up a password (make sure you use the email address associated with the Chamber). After that you should then be able to register.
URL:https://siouxfallsypn.com/event/focus-workshop-volunteering/
LOCATION:Zoom
CATEGORIES:Focus Workshop,Professional Development
END:VEVENT
BEGIN:VEVENT
DTSTART;TZID=America/Chicago:20230425T120000
DTEND;TZID=America/Chicago:20230425T130000
DTSTAMP:20260421T102256
CREATED:20230316T194917Z
LAST-MODIFIED:20230316T194917Z
UID:10000320-1682424000-1682427600@siouxfallsypn.com
SUMMARY:Our Sioux Falls: Chamber Series Pt. 4
DESCRIPTION:Dive in and get connected with the Greater Sioux Falls Chamber of Commerce. Through this series\, you will learn the inner workings of the Chamber and how you can get involved. This 4th & final session will focus on the Community Appeals process.
URL:https://siouxfallsypn.com/event/our-sioux-falls-chamber-series-pt-4/
LOCATION:Zoom
END:VEVENT
BEGIN:VEVENT
DTSTART;TZID=America/Chicago:20230403T120000
DTEND;TZID=America/Chicago:20230403T130000
DTSTAMP:20260421T102256
CREATED:20230315T205114Z
LAST-MODIFIED:20230315T205114Z
UID:10000316-1680523200-1680526800@siouxfallsypn.com
SUMMARY:Focus Workshop: Making an ask
DESCRIPTION:Interested in a virtual learning opportunity? In this workshop\, you’ll be introduced to fundraising skills\, building the ask and confidence in making an ask. \nPre-Registration is Required. After registering\, you will receive a link to join the Zoom call on the day of the workshop. \nYou will need to click “Login” on the top right to register for the event. Click “Forgot Password” to set up a password (make sure you use the email address associated with the Chamber). After that\, you should then be able to register.
URL:https://siouxfallsypn.com/event/focus-workshop-making-an-ask/
LOCATION:Zoom
END:VEVENT
BEGIN:VEVENT
DTSTART;TZID=America/Chicago:20230314T120000
DTEND;TZID=America/Chicago:20230314T130000
DTSTAMP:20260421T102256
CREATED:20230210T195709Z
LAST-MODIFIED:20230210T201101Z
UID:10000218-1678795200-1678798800@siouxfallsypn.com
SUMMARY:YPN Our Sioux Falls: Chamber Series Pt. 3 - Government Relations
DESCRIPTION:Learn more about the organizations in the community where you live and work through programs that give details behind items impacting your quality of life. Dive in and get connected with the Greater Sioux Falls Chamber of Commerce. Through this series\, you will learn the inner workings of a Chamber and how you can get involved.  In this session\, we will take a closer look at our Government Relations department. 
URL:https://siouxfallsypn.com/event/ypn-our-sioux-falls-chamber-series-pt-3-government-relations/
LOCATION:Zoom
END:VEVENT
BEGIN:VEVENT
DTSTART;TZID=America/Chicago:20230201T120000
DTEND;TZID=America/Chicago:20230201T130000
DTSTAMP:20260421T102256
CREATED:20230116T155016Z
LAST-MODIFIED:20230116T155016Z
UID:10000305-1675252800-1675256400@siouxfallsypn.com
SUMMARY:YPN Our Sioux Falls: Chamber Series Pt. 2 - Forward Sioux Falls
DESCRIPTION:Learn more about the organizations in the community where you live and work through programs that give details behind items impacting your quality of life. Dive in and get connected with the Greater Sioux Falls Chamber of Commerce. Through this series\, you will learn the inner workings of a Chamber and how you can get involved.  In this session\, we will take a closer look at our partner organization Forward Sioux Falls. 
URL:https://siouxfallsypn.com/event/ypn-our-sioux-falls-chamber-series-pt-2-forward-sioux-falls/
LOCATION:Zoom
END:VEVENT
BEGIN:VEVENT
DTSTART;TZID=America/Chicago:20230110T120000
DTEND;TZID=America/Chicago:20230110T130000
DTSTAMP:20260421T102256
CREATED:20221221T203059Z
LAST-MODIFIED:20221221T203059Z
UID:10000209-1673352000-1673355600@siouxfallsypn.com
SUMMARY:YPN Our Sioux Falls: Chamber Series
DESCRIPTION:Learn more about the organizations in the community where you live and work through programs that give details behind items impacting your quality of life. Dive in and get connected with the Greater Sioux Falls Chamber of Commerce. Through this series\, you will learn the inner workings of a Chamber and how you can get involved.  
URL:https://siouxfallsypn.com/event/ypn-our-sioux-falls-chamber-series/
LOCATION:Zoom
END:VEVENT
BEGIN:VEVENT
DTSTART;TZID=America/Chicago:20230103T160000
DTEND;TZID=America/Chicago:20230103T170000
DTSTAMP:20260421T102256
CREATED:20221227T171006Z
LAST-MODIFIED:20230103T154036Z
UID:10000304-1672761600-1672765200@siouxfallsypn.com
SUMMARY:YPN Social Action Team Meeting - Virtual
DESCRIPTION:Party planners and extroverts\, this team is for you! The Social Action Team plans all of the YPN networking and fun social events such as Off the Clock\, Morning Buzz\, Power Lunch\, and many others. \nJoin us virtually! \nJoin Zoom Meeting\nhttps://us06web.zoom.us/j/83390074931?pwd=Smk2M3I0ZUJlcnBMOTRnUTJaa1hKdz09 \n  \n  \n 
URL:https://siouxfallsypn.com/event/ypn-social-action-team-meeting-8/
LOCATION:Zoom
END:VEVENT
BEGIN:VEVENT
DTSTART;TZID=America/Chicago:20220426T120000
DTEND;TZID=America/Chicago:20220426T130000
DTSTAMP:20260421T102256
CREATED:20220314T203608Z
LAST-MODIFIED:20220314T203608Z
UID:10000252-1650974400-1650978000@siouxfallsypn.com
SUMMARY:YPN Focus Workshop: Legal Entities & Estate Planning 101
DESCRIPTION:YPN Focus Workshops are virtual learning opportunities for YPN Members that are held monthly. In this workshop\, you’ll be introduced to legal entities and estate planning for business owners and young adults. \nPresenter: Brooke Harms\, Ballard Spahr \nPre-Registration is Required. After registering\, you will receive a link to join the Zoom call on the day of the workshop. \nYou will need to click “Login” on the top right to register for the event. Click “Forgot Password” to set up a password (make sure you use the email address associated with the Chamber). After that\, you should then be able to register.
URL:https://siouxfallsypn.com/event/ypn-focus-workshop-legal-entities-estate-planning-101/
LOCATION:Zoom
END:VEVENT
BEGIN:VEVENT
DTSTART;TZID=America/Chicago:20220303T153000
DTEND;TZID=America/Chicago:20220303T161500
DTSTAMP:20260421T102256
CREATED:20220221T191854Z
LAST-MODIFIED:20220223T165730Z
UID:10000245-1646321400-1646324100@siouxfallsypn.com
SUMMARY:YPN Personal and Professional Development Action Team Meeting
DESCRIPTION:This action team plans tours of new projects in town\, lines up phenomenal speakers and generally guides the educational elements of YPN. If you enjoy brainstorming events that help young professionals develop both personally and professionally then this is the team for you! \nThis month’s meeting will be virtual. Please email cboerger@siouxfalls.com if you would like the link to attend. \n 
URL:https://siouxfallsypn.com/event/ypn-personal-and-professional-development-action-team-meeting/
LOCATION:Zoom
END:VEVENT
BEGIN:VEVENT
DTSTART;TZID=America/Chicago:20220303T120000
DTEND;TZID=America/Chicago:20220303T130000
DTSTAMP:20260421T102256
CREATED:20220108T224818Z
LAST-MODIFIED:20220110T050749Z
UID:10000234-1646308800-1646312400@siouxfallsypn.com
SUMMARY:YPN Focus Workshop - Empowered Coaching: Leadership & Influence Pt. 2
DESCRIPTION:YPN Focus Workshops are virtual learning opportunities for YPN Members that are held monthly. Join us for part two of this two part Leadership & Influence series! \nPeople say that leaders are born\, not made. While it is true that some people are born leaders\, some leaders are born in the midst of adversity. Often\, people who have never had a leadership role will stand up and take the lead when a situation they care about requires it. For example\, parenting. When a child arrives\, many parents discover leadership abilities they never knew existed until it came time to guide and protect their child(ren). \nOnce a person learns the techniques of true Leadership and Influence\, s/he will be able to build the confidence it takes to take the lead. The more experience s/he has acting as a genuine leader\, the easier it will become. It is never easy to take the lead\, as one will need to make decisions and face challenges\, but it can become natural and very rewarding. \nPresenter: Molly Christianson\, Empowered Coaching \nPre-Registration is Required. After registering\, you will receive a link to join the Zoom call on the day of the workshop. \nYou will need to click “Login” on the top right to register for the event. Click “Forgot Password” to set up a password (make sure you use the email address associated with the Chamber). After that\, you should then be able to register.
URL:https://siouxfallsypn.com/event/ypn-focus-workshop-empowered-coaching-leadership-influence-pt-2/
LOCATION:Zoom
CATEGORIES:Focus Workshop,Professional Development
END:VEVENT
BEGIN:VEVENT
DTSTART;TZID=America/Chicago:20220222T120000
DTEND;TZID=America/Chicago:20220222T130000
DTSTAMP:20260421T102256
CREATED:20220108T224638Z
LAST-MODIFIED:20220221T143528Z
UID:10000233-1645531200-1645534800@siouxfallsypn.com
SUMMARY:YPN Focus Workshop - Empowered Coaching: Leadership & Influence Pt. 1
DESCRIPTION:YPN Focus Workshops are virtual learning opportunities for YPN Members that are held monthly. Join us for part one of this two part Leadership & Influence series! \nPeople say that leaders are born\, not made. While it is true that some people are born leaders\, some leaders are born in the midst of adversity. Often\, people who have never had a leadership role will stand up and take the lead when a situation they care about requires it. For example\, parenting. When a child arrives\, many parents discover leadership abilities they never knew existed until it came time to guide and protect their child(ren). \nOnce a person learns the techniques of true Leadership and Influence\, s/he will be able to build the confidence it takes to take the lead. The more experience s/he has acting as a genuine leader\, the easier it will become. It is never easy to take the lead\, as one will need to make decisions and face challenges\, but it can become natural and very rewarding. \nPresenter: Molly Christianson\, Empowered Coaching \nPre-Registration is Required. After registering\, you will receive a link to join the Zoom call on the day of the workshop. \nYou will need to click “Login” on the top right to register for the event. Click “Forgot Password” to set up a password (make sure you use the email address associated with the Chamber). After that\, you should then be able to register.
URL:https://siouxfallsypn.com/event/ypn-focus-workshop-empowered-coaching-leadership-influence-pt-1/
LOCATION:Zoom
CATEGORIES:Focus Workshop,Professional Development
END:VEVENT
END:VCALENDAR